BEGIN:VCALENDAR
VERSION:2.0
PRODID:-//ChamberMaster//Event Calendar 2.0//EN
METHOD:PUBLISH
X-PUBLISHED-TTL:P3D
REFRESH-INTERVAL:P3D
CALSCALE:GREGORIAN
BEGIN:VEVENT
DTSTART:20180908T125000Z
DTEND:20180908T190000Z
X-MICROSOFT-CDO-ALLDAYEVENT:FALSE
SUMMARY:Experience the NeoLife Difference
DESCRIPTION:Join Josh Clark\, VP of Sales for NeoLife North America for an informative session covering the following topics:\n\n	How to have more energy\n	Strengthen your immunity\n	Slow down the aging process\n	End the trend of chronic disease\n	Build a home based business\n\nCome learn how to receive free NeoLife products!
X-ALT-DESC;FMTTYPE=text/html:Join Josh Clark\, VP of Sales for NeoLife North America for an informative session covering the following topics:\n<ul>\n	<li>How to have more energy</li>\n	<li>Strengthen your immunity</li>\n	<li>Slow down the aging process</li>\n	<li>End the trend of chronic disease</li>\n	<li>Build a home based business</li>\n</ul>\nCome learn how to receive free NeoLife products!
LOCATION:Marriott Residence Inn 944 Lake Murray Blvd. Irmo\, SC 29063 Behind Zoe's
UID:e.1333.3259
SEQUENCE:3
DTSTAMP:20260423T132326Z
URL:https://business.greaterirmochamber.com/events/details/experience-the-neolife-difference-3259
END:VEVENT

END:VCALENDAR
