BEGIN:VCALENDAR
VERSION:2.0
PRODID:-//ChamberMaster//Event Calendar 2.0//EN
METHOD:PUBLISH
X-PUBLISHED-TTL:P3D
REFRESH-INTERVAL:P3D
CALSCALE:GREGORIAN
BEGIN:VEVENT
DTSTART:20180607T153000Z
DTEND:20180607T163000Z
X-MICROSOFT-CDO-ALLDAYEVENT:FALSE
SUMMARY:Express Oil Change Grand Opening & Ribbon Cutting
DESCRIPTION:Join us in welcoming Express Oil Change & Tire Engineers of Ballentine to the Irmo Chamber.  A light lunch will be served and we will cut the ribbon at 11:45am!
X-ALT-DESC;FMTTYPE=text/html:Join us in welcoming Express Oil Change &amp\; Tire Engineers of Ballentine to the Irmo Chamber. &nbsp\;A light lunch will be served and we will cut the ribbon at 11:45am!
LOCATION:1141 Dutch Fork Rd. Irmo\, SC 29063
UID:e.1333.3004
SEQUENCE:3
DTSTAMP:20260423T180544Z
URL:https://business.greaterirmochamber.com/events/details/express-oil-change-grand-opening-ribbon-cutting-3004
END:VEVENT

END:VCALENDAR
