BEGIN:VCALENDAR
VERSION:2.0
PRODID:-//ChamberMaster//Event Calendar 2.0//EN
METHOD:PUBLISH
X-PUBLISHED-TTL:P3D
REFRESH-INTERVAL:P3D
CALSCALE:GREGORIAN
BEGIN:VEVENT
DTSTART:20181025T153000Z
DTEND:20181025T163000Z
X-MICROSOFT-CDO-ALLDAYEVENT:FALSE
SUMMARY:Eyes on the Lake Ribbon Cutting
DESCRIPTION:Join us to welcome Eyes on the Lake to our Chamber!!\n\nRibbon Cutting at 11:45 a.m.\n\nA light lunch will be provided
X-ALT-DESC;FMTTYPE=text/html:Join us to welcome Eyes on the Lake to our Chamber!!<br />\nRibbon Cutting at 11:45 a.m.<br />\nA light lunch will be provided
LOCATION:2914 Dreher Shoals Road\, Suite A Columbia\, SC 29212
UID:e.1333.3276
SEQUENCE:3
DTSTAMP:20260423T120518Z
URL:https://business.greaterirmochamber.com/events/details/eyes-on-the-lake-ribbon-cutting-3276
END:VEVENT

END:VCALENDAR
