BEGIN:VCALENDAR
VERSION:2.0
PRODID:-//ChamberMaster//Event Calendar 2.0//EN
METHOD:PUBLISH
X-PUBLISHED-TTL:P3D
REFRESH-INTERVAL:P3D
CALSCALE:GREGORIAN
BEGIN:VEVENT
DTSTART;VALUE=DATE:20160830
DTEND;VALUE=DATE:20160910
TRANSP:TRANSPARENT
X-MICROSOFT-CDO-ALLDAYEVENT:TRUE
SUMMARY:Fall Bowling Leagues at Anchor Lanes
DESCRIPTION:Fall leagues are forming now.  Beginners\, seasoned bowlers\, young or not-so-young...we have a league for everyone! Come have fun with us.
X-ALT-DESC;FMTTYPE=text/html:<span style="font-family:arial\,helvetica\,sans-serif"><span style="font-size:12px">Fall leagues are forming now.&nbsp\; Beginners\, seasoned bowlers\, young or not-so-young...we have a league for everyone! Come have fun with us.&nbsp\; </span></span>
LOCATION:Anchor Lanes\, 1057 Lake Murray Blvd\, Irmo SC
UID:e.1333.2473
SEQUENCE:3
DTSTAMP:20260425T020346Z
URL:https://business.greaterirmochamber.com/events/details/fall-bowling-leagues-at-anchor-lanes-2473
END:VEVENT

END:VCALENDAR
