BEGIN:VCALENDAR
VERSION:2.0
PRODID:-//ChamberMaster//Event Calendar 2.0//EN
METHOD:PUBLISH
X-PUBLISHED-TTL:P3D
REFRESH-INTERVAL:P3D
CALSCALE:GREGORIAN
BEGIN:VEVENT
DTSTART:20171007T150000Z
DTEND:20171007T190000Z
X-MICROSOFT-CDO-ALLDAYEVENT:FALSE
SUMMARY:Family Fun Fall Festival
DESCRIPTION:Join us at HarborChase for our Family Fun Fall Festival as we gather to celebrate the season and fundraise for the Alzheimer's Association!\n\nYou and your whole family will enjoy music\, train rides\, corn hole\, pumpkin races\, "Balloon Blaster\," and more fun activities. We'll also have complimentary popcorn\, cotton candy\, corn dogs and all your carnival favorites for you to snack on and enjoy.\n\nBring along a fresh-baked cake to donate or enter our Cake Walk to End Alzheimer's for $1. Don't forget your Walk to End Alzheimer's t-shirts\, available for $5 each. If we are able to raise $400\, a manager will get a pie in the face! Don't miss out on this fun and festive event! All proceeds will go to the Alzheimer's Association.\n\n\nFor more information or to donate a cake to the event\, call now!\n\n(803) 781-2243\n\nNo cost to attend the fall festival!
X-ALT-DESC;FMTTYPE=text/html:<div>\n<p>Join us at HarborChase for our Family Fun Fall Festival as we gather to celebrate the season and fundraise for the Alzheimer&#39\;s Association!</p>\n\n<p>You and your whole family will enjoy music\, train rides\, corn hole\, pumpkin races\, &ldquo\;Balloon Blaster\,&rdquo\; and more fun activities. We&rsquo\;ll also have complimentary popcorn\, cotton candy\, corn dogs and all your carnival favorites for you to snack on and enjoy.</p>\n\n<p>Bring along a fresh-baked cake to donate or enter our Cake Walk to End Alzheimer&rsquo\;s for $1. Don&#39\;t forget your Walk to End Alzheimer&#39\;s t-shirts\, available for $5 each. If we are able to raise $400\, a manager will get a pie in the face! Don&rsquo\;t miss out on this fun and festive event! All proceeds will go to the Alzheimer&rsquo\;s Association.</p>\n\n<div>\n<p>For more information or to donate a cake to the event\, call now!<br />\n(803) 781-2243</p>\n\n<p>No cost to attend the fall festival!</p>\n</div>\n</div>\n
LOCATION:HarborChase of Columbia Assisted Living & Memory Care 120 Fairforest Road Columbia\, SC 29212 HarborChase of Columbia is located less than 1 mile off of Exit 103\, Harbison Blvd Exit. We are located on Lake Woodcross in the Harbison Community\, which is less than 1 mile from The Home Depot in the Harbison Community. Please give us a call at 803-781-2243 for direction assistance.
UID:e.1333.2911
SEQUENCE:3
DTSTAMP:20260424T065136Z
URL:https://business.greaterirmochamber.com/events/details/family-fun-fall-festival-2911
END:VEVENT

END:VCALENDAR
