BEGIN:VCALENDAR
VERSION:2.0
PRODID:-//ChamberMaster//Event Calendar 2.0//EN
METHOD:PUBLISH
X-PUBLISHED-TTL:P3D
REFRESH-INTERVAL:P3D
CALSCALE:GREGORIAN
BEGIN:VEVENT
DTSTART:20170202T230000Z
DTEND:20170203T020000Z
X-MICROSOFT-CDO-ALLDAYEVENT:FALSE
SUMMARY:Fashion for Fighters Runway Show
DESCRIPTION:Fashion for Fighters Runway Show was created to support all types of local cancer survivors and help them feel confident and free from this dreaded disease\, for a moment\, as they walk down the runway.  The models are survivors diagnosed with different types of cancer modeling its color and dancing to their favorite song to help bring awareness to all cancers.\n\nCMC is committed to be a continuous resource assisting local cancer survivors with daily living expenses and emergency needs.  Because of you and your support\, CMC can continue to help local patients in need.\n\nThank You! \n\nt "All Types of Local Cancers Survivors" with their dFashion for Fighters Runway Show was created to support all types of local cancer survivors and help them feel confident and free from this dreaded disease\, for a moment\, as they walk down the runway.  The models are survivors diagnosed with different types of cancer modeling its color and dancing to their favorite song to help bring awareness to "All Cancers".\n\nCMC is committed to be a continuous resource assisting local cancer survivors with their daily living expenses and emergency needs.  Because of you and your support\, CMC can continue to help local patience inn need.  aily lrs representing all genders\, ages\, and  all types of cancers!\nJochance to win great prizes!\n\n \n\nving expenses!\n\n Models are survivors representing all genders\, ages\, and  all types of cancers!\n\nJoin us for a FUN filled evening with food\, libations\, music and a chance to win great prizes!\n\n \n\nSave The Date\n\nHelp us support "All Types of Local Cancers Survivors" with their daily living expenses!\n\n Models are survivors representing all genders\, ages\, and  all types of cancers!\n\nJoin us for a FUN filled evening with food\, libations\, music and a chance to win great prizes!\n\n \n\n\n\n\n\nThe Date\n\nHel
X-ALT-DESC;FMTTYPE=text/html:<h2><span style="font-family:bookman old style\,serif\; font-size:14pt">Fashion for Fighters Runway Show was created to support all types of local cancer survivors and help them feel confident and free from this dreaded disease\, for a moment\, as they walk down the runway.&nbsp\; The models are survivors diagnosed with different types of cancer modeling its color and dancing to their favorite song to help bring awareness to all cancers.</span></h2>\n\n<p><span style="font-family:bookman old style\,serif\; font-size:14pt">CMC is committed to be a continuous resource assisting local cancer survivors with daily living expenses and emergency needs.&nbsp\; Because of you and your support\, CMC can continue to help local patients in need.<br />\nThank You!&nbsp\;</span></p>\n\n<h2><span style="color:white"><span style="font-family:arial"><span style="font-size:14.0pt">t </span></span></span><span style="color:white"><span style="font-family:arial"><span style="font-size:16.0pt">&ldquo\;All Types of Local Cancers Survivors&rdquo\;</span><span style="font-size:14.0pt"> with their dFashion for Fighters Runway Show was created to support all types of local cancer survivors and help them feel confident and free from this dreaded disease\, for a moment\, as they walk down the runway.&nbsp\; The models are survivors diagnosed with different types of cancer modeling its color and dancing to their favorite song to help bring awareness to &quot\;All Cancers&quot\;.<br />\nCMC is committed to be a continuous resource assisting local cancer survivors with their daily living expenses and emergency needs.&nbsp\; Because of you and your support\, CMC can continue to help local patience inn need.&nbsp\; aily lrs representing all genders\, ages\, and&nbsp\; all types of cancers!</span></span></span></h2>\n<span style="color:white"><span style="font-family:arial"><span style="font-size:14.0pt">Jo</span></span></span><span style="color:white"><span style="font-family:arial"><span style="font-size:14.0pt">chance to win great prizes!</span></span></span><br />\n&nbsp\;<br />\n<span style="color:white"><span style="font-family:arial"><span style="font-size:14.0pt">ving expenses!</span></span></span><br />\n<span style="color:white"><span style="font-family:arial"><span style="font-size:14.0pt">&nbsp\;Models are survivors representing all genders\, ages\, and&nbsp\; all types of cancers!</span></span></span><br />\n<span style="color:white"><span style="font-family:arial"><span style="font-size:14.0pt">Join us for a FUN filled evening with food\, libations\, music and a chance to win great prizes!</span></span></span><br />\n&nbsp\;<br />\n<span style="color:white"><span style="font-family:broadway"><span style="font-size:45.0pt">Save The Date</span></span></span><br />\n<span style="color:white"><span style="font-family:arial"><span style="font-size:14.0pt">Help us support </span></span></span><span style="color:white"><span style="font-family:arial"><span style="font-size:16.0pt">&ldquo\;All Types of Local Cancers Survivors&rdquo\;</span></span></span><span style="color:white"><span style="font-family:arial"><span style="font-size:14.0pt"> with their daily living expenses!</span></span></span><br />\n<span style="color:white"><span style="font-family:arial"><span style="font-size:14.0pt">&nbsp\;Models are survivors representing all genders\, ages\, and&nbsp\; all types of cancers!</span></span></span><br />\n<span style="color:white"><span style="font-family:arial"><span style="font-size:14.0pt">Join us for a FUN filled evening with food\, libations\, music and a chance to win great prizes!</span></span></span><br />\n&nbsp\;<br />\n<br />\n<br />\n<span style="color:white"><span style="font-family:broadway"><span style="font-size:45.0pt">The Date</span></span></span><br />\n<span style="color:white"><span style="font-family:arial"><span style="font-size:14.0pt">Hel</span></span></span>
LOCATION:Holiday Inn & Suites Columbia-Airport http://bit.ly/2iohfc8
UID:e.1333.2507
SEQUENCE:3
DTSTAMP:20260424T184520Z
URL:https://business.greaterirmochamber.com/events/details/fashion-for-fighters-runway-show-2507
END:VEVENT

END:VCALENDAR
