BEGIN:VCALENDAR
VERSION:2.0
PRODID:-//ChamberMaster//Event Calendar 2.0//EN
METHOD:PUBLISH
X-PUBLISHED-TTL:P3D
REFRESH-INTERVAL:P3D
CALSCALE:GREGORIAN
BEGIN:VEVENT
DTSTART:20170819T120000Z
DTEND:20170819T143000Z
X-MICROSOFT-CDO-ALLDAYEVENT:FALSE
SUMMARY:FATZ Pancake Breakfast to Benefit Sharing God's Love
DESCRIPTION:Sharing God's Love Annual FATZ Pancake Breakfast Fund Raiser is Saturday\, August 19th\n\nfrom 8am-10:30am at Fatz Restaurant\,7420 Broad River Rd\, Irmo. Tickets are $7 and are\n\navailable at our facility at 147 Friarsgate Blvd\, from SGL Vounteers and at the door on the 19th. \n\nCome eat the best pancakes in town coupled with the best servers in town\, our volunteers!
X-ALT-DESC;FMTTYPE=text/html:Sharing God&#39\;s Love Annual FATZ Pancake Breakfast Fund Raiser is Saturday\, August 19th<br />\nfrom 8am-10:30am at Fatz Restaurant\,7420 Broad River Rd\, Irmo. Tickets are $7 and are<br />\navailable at our facility at 147 Friarsgate Blvd\, from SGL Vounteers and at the door on the 19th.&nbsp\;<br />\nCome eat the best pancakes in town coupled with the best servers in town\, our volunteers!
LOCATION:7420 Broad River Rd\, Irmo SC
UID:e.1333.2886
SEQUENCE:3
DTSTAMP:20260424T095349Z
URL:https://business.greaterirmochamber.com/events/details/fatz-pancake-breakfast-to-benefit-sharing-god-s-love-2886
END:VEVENT

END:VCALENDAR
