BEGIN:VCALENDAR
VERSION:2.0
PRODID:-//ChamberMaster//Event Calendar 2.0//EN
METHOD:PUBLISH
X-PUBLISHED-TTL:P3D
REFRESH-INTERVAL:P3D
CALSCALE:GREGORIAN
BEGIN:VEVENT
DTSTART:20171109T220000Z
DTEND:20171110T000000Z
X-MICROSOFT-CDO-ALLDAYEVENT:FALSE
SUMMARY:Fatz Southern Kitchen Irmo Business After Hours
DESCRIPTION:Come wind down your day with us at Fatz Southern Kitchen Irmo for our November Business After Hours! Fatz will offer complimentary appetizers from their menu and drink specials at the bar! Hope to see you there.\n\n\n\nPlease register in advance for your chance to win a FATZ Southern Kitchen Gift Card!
X-ALT-DESC;FMTTYPE=text/html:<span style="color: rgb(29\, 33\, 41)\; font-family: &quot\;SF Optimized&quot\;\, system-ui\, -apple-system\, BlinkMacSystemFont\, &quot\;.SFNSText-Regular&quot\;\, sans-serif\; font-size: 12px\; letter-spacing: -0.11999999731779099px\; white-space: pre-wrap\;">Come wind down your day with us at Fatz Southern Kitchen Irmo for our November Business After Hours! Fatz will offer complimentary appetizers from their menu and drink specials at the bar! Hope to see you there.<br />\n<br />\nPlease register in advance for your chance to win a FATZ Southern Kitchen Gift Card!</span>
LOCATION:Fatz Southern Kitchen Irmo 7420 Broad River Rd. Irmo\, SC 29063
UID:e.1333.2923
SEQUENCE:3
DTSTAMP:20260424T052929Z
URL:https://business.greaterirmochamber.com/events/details/fatz-southern-kitchen-irmo-business-after-hours-2923
END:VEVENT

END:VCALENDAR
