BEGIN:VCALENDAR
VERSION:2.0
PRODID:-//ChamberMaster//Event Calendar 2.0//EN
METHOD:PUBLISH
X-PUBLISHED-TTL:P3D
REFRESH-INTERVAL:P3D
CALSCALE:GREGORIAN
BEGIN:VEVENT
DTSTART:20170208T163000Z
DTEND:20170208T180000Z
X-MICROSOFT-CDO-ALLDAYEVENT:FALSE
SUMMARY:February 2017 Monthly Chamber Luncheon
DESCRIPTION:Join us for our Monthly Chamber Luncheon!\n\nSponsor and Speaker:  Lexington Medical Center\n\nCaterer:  Del Taco
X-ALT-DESC;FMTTYPE=text/html:Join us for our Monthly Chamber Luncheon!<br />\nSponsor and Speaker: &nbsp\;Lexington Medical Center<br />\nCaterer: &nbsp\;Del Taco
LOCATION:St. Andrews Presbyterian Church 6952 St. Andrews Road Columbia\, SC 29212
UID:e.1333.2511
SEQUENCE:3
DTSTAMP:20260424T184345Z
URL:https://business.greaterirmochamber.com/events/details/february-2017-monthly-chamber-luncheon-2511
END:VEVENT

END:VCALENDAR
