BEGIN:VCALENDAR
VERSION:2.0
PRODID:-//ChamberMaster//Event Calendar 2.0//EN
METHOD:PUBLISH
X-PUBLISHED-TTL:P3D
REFRESH-INTERVAL:P3D
CALSCALE:GREGORIAN
BEGIN:VEVENT
DTSTART:20180201T123000Z
DTEND:20180201T133000Z
X-MICROSOFT-CDO-ALLDAYEVENT:FALSE
SUMMARY:February 2018 Chamber Breakfast
DESCRIPTION:Please join us for a great morning of networking and fellowship!  Special thanks to Kadenia Javis with Javis Tax Service for sponsoring this event and to Gayle Urban with Dish It Out Catering for serving a delicious breakfast!
X-ALT-DESC;FMTTYPE=text/html:Please join us for a great morning of networking and fellowship!&nbsp\;&nbsp\;Special thanks to Kadenia Javis with <strong>Javis&nbsp\;Tax Service</strong> for sponsoring this event and to Gayle Urban with <strong>Dish It Out Catering</strong> for serving a delicious breakfast!
LOCATION:Greater Irmo Chamber of Commerce 1235 Columbia Ave. Irmo\, SC 29063
UID:e.1333.2940
SEQUENCE:3
DTSTAMP:20260424T003443Z
URL:https://business.greaterirmochamber.com/events/details/february-2018-chamber-breakfast-2940
END:VEVENT

END:VCALENDAR
