BEGIN:VCALENDAR
VERSION:2.0
PRODID:-//ChamberMaster//Event Calendar 2.0//EN
METHOD:PUBLISH
X-PUBLISHED-TTL:P3D
REFRESH-INTERVAL:P3D
CALSCALE:GREGORIAN
BEGIN:VEVENT
DTSTART:20180214T163000Z
DTEND:20180214T180000Z
X-MICROSOFT-CDO-ALLDAYEVENT:FALSE
SUMMARY:February 2018 Chamber Luncheon
DESCRIPTION:Please join us for our February Chamber Luncheon on Wednesday\, February 14\, 2018 from 11:30am-1pm at St. Andrews Presbyterian Church.  This month\, in honor of American Heart Month\, we will welcome Dr. Christopher Rowley\, a cardiologist with Lexington Cardiology\, a physician practice affiliated with our sponsor\, Lexington Medical Center.  Columbia Conference Center will cater our lunch and Lexington Medical Center will be passing out their sought after mouse pad calendars!
X-ALT-DESC;FMTTYPE=text/html:<span style="font-family: arial\;">Please join us for our&nbsp\;</span><strong style="font-family: arial\;">February Chamber Luncheon</strong><span style="font-family: arial\;">&nbsp\;on&nbsp\;</span><strong style="font-family: arial\;">Wednesday\, February 14\, 2018</strong><span style="font-family: arial\;">&nbsp\;from&nbsp\;</span><strong style="font-family: arial\;">11:30am-1pm</strong><span style="font-family: arial\;">&nbsp\;at&nbsp\;</span><strong style="font-family: arial\;">St. Andrews Presbyterian Church</strong><span style="font-family: arial\;">. &nbsp\;This month\, in honor of <strong>American Heart Month</strong>\, we will welcome <strong>Dr. </strong></span><span style="font-family: arial\;"><strong>Christopher Rowley</strong>\, a </span><span style="font-family: arial\;">cardiologist with <strong>Lexington Cardiology</strong>\, a physician practice affiliated with our sponsor\, <strong>Lexington Medical Center</strong>.</span>&nbsp\;&nbsp\;<font face="arial"><b>Columbia Conference Center </b>will cater our lunch and Lexington Medical Center will be passing out their sought after mouse pad calendars!</font>
LOCATION:St. Andrews Presbyterian Church 6952 St. Andrews Rd. Columbia\, SC 29212
UID:e.1333.2947
SEQUENCE:3
DTSTAMP:20260424T003624Z
URL:https://business.greaterirmochamber.com/events/details/february-2018-chamber-luncheon-2947
END:VEVENT

END:VCALENDAR
