BEGIN:VCALENDAR
VERSION:2.0
PRODID:-//ChamberMaster//Event Calendar 2.0//EN
METHOD:PUBLISH
X-PUBLISHED-TTL:P3D
REFRESH-INTERVAL:P3D
CALSCALE:GREGORIAN
BEGIN:VEVENT
DTSTART:20190213T163000Z
DTEND:20190213T180000Z
X-MICROSOFT-CDO-ALLDAYEVENT:FALSE
SUMMARY:February 2019 Chamber Luncheon
DESCRIPTION:Please join us for our February Chamber Luncheon on Wednesday\, February 13\, 2019 from 11:30am-1pm at St. Andrews Presbyterian Church.  In honor of Heart Month\, we will welcome Dr. Christopher Rowley\, a Cardiologist with Lexington Cardiology.  Dr. Rowley will be discussing atrial fibrillation and its causes and treatments.  Special thanks to our Diamond partners at Lexington Medical Center for sponsoring this event and to the Corporative Conference Center for catering our lunch.
X-ALT-DESC;FMTTYPE=text/html:<span style="font-family: arial\;">Please join us for our <strong>February</strong></span><strong style="font-family: arial\;">&nbsp\;Chamber Luncheon</strong><span style="font-family: arial\;">&nbsp\;on&nbsp\;</span><strong style="font-family: arial\;">Wednesday\, February 13\, 2019</strong><span style="font-family: arial\;">&nbsp\;from&nbsp\;</span><strong style="font-family: arial\;">11:30am-1pm</strong><span style="font-family: arial\;">&nbsp\;at&nbsp\;</span><strong style="font-family: arial\;">St. Andrews Presbyterian Church</strong><span style="font-family: arial\;">. &nbsp\;In honor of Heart Month\, we will welcome</span><font face="arial">&nbsp\;<strong>Dr. Christopher Rowley</strong><b>\, a Cardiologist with Lexington Cardiology</b>. &nbsp\;Dr. Rowley will be discussing atrial fibrillation and its causes and treatments. &nbsp\;Special thanks to our Diamond partners at&nbsp\;<strong>Lexington Medical Center&nbsp\;</strong>for sponsoring this event and to the <strong>Corporative Conference Center </strong>for catering our lunch.</font>
LOCATION:St. Andrews Presbyterian Church 6952 St. Andrews Rd. Columbia\, SC 29212
UID:e.1333.3299
SEQUENCE:3
DTSTAMP:20260423T070849Z
URL:https://business.greaterirmochamber.com/events/details/february-2019-chamber-luncheon-3299
END:VEVENT

END:VCALENDAR
