BEGIN:VCALENDAR
VERSION:2.0
PRODID:-//ChamberMaster//Event Calendar 2.0//EN
METHOD:PUBLISH
X-PUBLISHED-TTL:P3D
REFRESH-INTERVAL:P3D
CALSCALE:GREGORIAN
BEGIN:VEVENT
DTSTART:20190524T190000Z
DTEND:20190525T010000Z
X-MICROSOFT-CDO-ALLDAYEVENT:FALSE
SUMMARY:FedEx-Lexington Grand Opening
DESCRIPTION:Join FedEx - Lexington at their Grand Opening!\n\nThe FedEx Nascar show car will be there!\n\nInside the Wal-Mart on Sunset Blvd.
X-ALT-DESC;FMTTYPE=text/html:Join FedEx - Lexington at their Grand Opening!<br />\nThe FedEx Nascar show car will be there!<br />\nInside the Wal-Mart on Sunset Blvd.
LOCATION:5556 Sunset Blvd. Lexington Inside the Wal-Mart
UID:e.1333.3328
SEQUENCE:3
DTSTAMP:20260423T004837Z
URL:https://business.greaterirmochamber.com/events/details/fedex-lexington-grand-opening-3328
END:VEVENT

END:VCALENDAR
