BEGIN:VCALENDAR
VERSION:2.0
PRODID:-//ChamberMaster//Event Calendar 2.0//EN
METHOD:PUBLISH
X-PUBLISHED-TTL:P3D
REFRESH-INTERVAL:P3D
CALSCALE:GREGORIAN
BEGIN:VEVENT
DTSTART:20170505T230000Z
DTEND:20170506T033000Z
X-MICROSOFT-CDO-ALLDAYEVENT:FALSE
SUMMARY:Fight Like a Girl Round 10
DESCRIPTION:The Ta-tinis are 5 young women who were diagnosed with breast cancer between the ages of 26-34 all within 20 months of each other. Their goal is to promote awareness in the community in the fight against breast cancer. Their passion is to improve the "cancer journey" while educating\, directing\, and empowering young women newly diagnosed with breast cancer.
X-ALT-DESC;FMTTYPE=text/html:<span style="color:#800080"><span style="font-family:verdana">&nbsp\;&nbsp\;&nbsp\;&nbsp\; The Ta-tinis are 5 young women who were diagnosed with breast cancer between the ages of 26-34 all within 20 months of each other. Their goal is to promote awareness in the community in the fight against breast cancer. Their passion is to improve the &quot\;cancer journey&quot\; while educating\, directing\, and empowering young women newly diagnosed with breast cancer. </span></span>
LOCATION:Columbia Conference Center 169 Laurelhurst Ave\, Columbia SC 29210
UID:e.1333.2543
SEQUENCE:3
DTSTAMP:20260424T155507Z
URL:https://business.greaterirmochamber.com/events/details/fight-like-a-girl-round-10-2543
END:VEVENT

END:VCALENDAR
