BEGIN:VCALENDAR
VERSION:2.0
PRODID:-//ChamberMaster//Event Calendar 2.0//EN
METHOD:PUBLISH
X-PUBLISHED-TTL:P3D
REFRESH-INTERVAL:P3D
CALSCALE:GREGORIAN
BEGIN:VEVENT
DTSTART:20170926T220000Z
DTEND:20170927T010000Z
X-MICROSOFT-CDO-ALLDAYEVENT:FALSE
SUMMARY:First Annual GICC Cornhole Tournament
DESCRIPTION:Come on out and join us for the First Annual GICC Corn Hole Tournament in Irmo Town Park!  If you want to enter a team in the tournament\, registration is $40 per team and it includes a t-shirt for each player.  We also have vendor booths available for $150 so you can showcase your business during this great event.  Our restaurant partners will receive a free booth in exchange for providing food.
X-ALT-DESC;FMTTYPE=text/html:Come on out and join us for the <strong>First Annual GICC Corn Hole Tournament</strong> in <strong>Irmo Town Park</strong>! &nbsp\;If you want to enter a team in the tournament\, registration is $40 per team and it includes a t-shirt for each player. &nbsp\;We also have vendor booths available for $150 so you can showcase your business during this great event. &nbsp\;Our restaurant partners will receive a free booth in exchange for providing food.<br />\n<br />\n&nbsp\;
LOCATION:Irmo Town Park 1249 Lexington Ave. Irmo\, SC 29063
UID:e.1333.2890
SEQUENCE:3
DTSTAMP:20260424T082143Z
URL:https://business.greaterirmochamber.com/events/details/first-annual-gicc-cornhole-tournament-2890
END:VEVENT

END:VCALENDAR
