BEGIN:VCALENDAR
VERSION:2.0
PRODID:-//ChamberMaster//Event Calendar 2.0//EN
METHOD:PUBLISH
X-PUBLISHED-TTL:P3D
REFRESH-INTERVAL:P3D
CALSCALE:GREGORIAN
BEGIN:VEVENT
DTSTART:20160810T210000Z
DTEND:20160811T000000Z
X-MICROSOFT-CDO-ALLDAYEVENT:FALSE
SUMMARY:First Reliance Bank 17th Birthday Party
DESCRIPTION:First Reliance Bank would like to invite you to their 17th Birthday Party!\n\n\n\nHudson's BBQ\n\nCake and Silly's Snoball's\n\nCornhole Toss\n\nFace Painting\n\nFinger Printing\n\nFire Trucks
X-ALT-DESC;FMTTYPE=text/html:First Reliance Bank would like to invite you to their 17th Birthday Party!<br />\n<br />\nHudson&#39\;s BBQ<br />\nCake and Silly&#39\;s Snoball&#39\;s<br />\nCornhole Toss<br />\nFace Painting<br />\nFinger Printing<br />\nFire Trucks
LOCATION:801 North Lake Drive Lexington\, SC 29072
UID:e.1333.2437
SEQUENCE:3
DTSTAMP:20260425T034048Z
URL:https://business.greaterirmochamber.com/events/details/first-reliance-bank-17th-birthday-party-08-10-2016-2437
END:VEVENT

END:VCALENDAR
