BEGIN:VCALENDAR
VERSION:2.0
PRODID:-//ChamberMaster//Event Calendar 2.0//EN
METHOD:PUBLISH
X-PUBLISHED-TTL:P3D
REFRESH-INTERVAL:P3D
CALSCALE:GREGORIAN
BEGIN:VEVENT
DTSTART:20190128T213000Z
DTEND:20190128T223000Z
X-MICROSOFT-CDO-ALLDAYEVENT:FALSE
SUMMARY:FIT413 Grand Opening & Ribbon Cutting
DESCRIPTION:Join us on Monday\, January 28th from 4:30PM-5:30PM as we welcome FIT413 Health Club to the #FUNCHAMBER.  We'll cut the ribbon at 5PM and there will be raffles\, giveaways\, free oil change certificates\, FREE pizza and tours of the facility.
X-ALT-DESC;FMTTYPE=text/html:Join us on Monday\, January 28th from 4:30PM-5:30PM as we welcome FIT413 Health Club to the #FUNCHAMBER. &nbsp\;We&#39\;ll cut the ribbon at 5PM and there will be raffles\, giveaways\, free oil change certificates\, FREE pizza and tours of the facility. &nbsp\;
LOCATION:FIT413 Health Club 4350 St. Andrews Rd. Columbia\, SC 29210
UID:e.1333.3298
SEQUENCE:3
DTSTAMP:20260423T091331Z
URL:https://business.greaterirmochamber.com/events/details/fit413-grand-opening-ribbon-cutting-3298
END:VEVENT

END:VCALENDAR
