BEGIN:VCALENDAR
VERSION:2.0
PRODID:-//ChamberMaster//Event Calendar 2.0//EN
METHOD:PUBLISH
X-PUBLISHED-TTL:P3D
REFRESH-INTERVAL:P3D
CALSCALE:GREGORIAN
BEGIN:VEVENT
DTSTART:20160912T153000Z
DTEND:20160912T163000Z
X-MICROSOFT-CDO-ALLDAYEVENT:FALSE
SUMMARY:Fleet Feet - Ribbon Cutting
DESCRIPTION:Ribbon Cutting with light lunch provided.
X-ALT-DESC;FMTTYPE=text/html:Ribbon Cutting with light lunch provided.
LOCATION:945 Lake Murray Boulevard\, Suite A Irmo\, SC 29063
UID:e.1333.2438
SEQUENCE:3
DTSTAMP:20260425T020600Z
URL:https://business.greaterirmochamber.com/events/details/fleet-feet-ribbon-cutting-09-12-2016-2438
END:VEVENT

END:VCALENDAR
