BEGIN:VCALENDAR
VERSION:2.0
PRODID:-//ChamberMaster//Event Calendar 2.0//EN
METHOD:PUBLISH
X-PUBLISHED-TTL:P3D
REFRESH-INTERVAL:P3D
CALSCALE:GREGORIAN
BEGIN:VEVENT
DTSTART:20171028T192500Z
DTEND:20171028T220000Z
X-MICROSOFT-CDO-ALLDAYEVENT:FALSE
SUMMARY:Flip FabriQue
DESCRIPTION:Experience soaring acrobats\, trampoline superstars\, mesmerizing hula-hoopers and spell-binding jugglers   wrapped in humor and joy. Flip FabriQue brings a party like we've never seen to the stage of Harbison Theatre! No matter your age\, this show will leave you on the edge of your seat\, smiling from ear to ear.
X-ALT-DESC;FMTTYPE=text/html:Experience soaring acrobats\, trampoline superstars\, mesmerizing hula-hoopers and spell-binding jugglers &ndash\; wrapped in humor and joy. Flip FabriQue brings a party like we&rsquo\;ve never seen to the stage of Harbison Theatre! No matter your age\, this show will leave you on the edge of your seat\, smiling from ear to ear.
LOCATION:Harbison Theatre at Midlands Technical College - 7300 College Street\, Irmo\, SC 29063
UID:e.1333.2780
SEQUENCE:3
DTSTAMP:20260424T064632Z
URL:https://business.greaterirmochamber.com/events/details/flip-fabrique-2780
END:VEVENT

END:VCALENDAR
