BEGIN:VCALENDAR
VERSION:2.0
PRODID:-//ChamberMaster//Event Calendar 2.0//EN
METHOD:PUBLISH
X-PUBLISHED-TTL:P3D
REFRESH-INTERVAL:P3D
CALSCALE:GREGORIAN
BEGIN:VEVENT
DTSTART:20190201T170000Z
DTEND:20190201T170000Z
X-MICROSOFT-CDO-ALLDAYEVENT:FALSE
SUMMARY:Free Fallin' : Tom Petty Tribute Band
DESCRIPTION:Free Fallin' is a tribute band who honors the late Tom Petty and presents a stunningly accurate tribute to the look and sound of the Heartbreakers.
X-ALT-DESC;FMTTYPE=text/html:Free Fallin&rsquo\; is a tribute band who honors the late Tom Petty and presents a stunningly accurate tribute to the look and sound of the Heartbreakers.
LOCATION:Harbison Theatre at Midlands Technical College 7300 College Street Irmo\, SC 29063
UID:e.1333.3237
SEQUENCE:3
DTSTAMP:20260423T070910Z
URL:https://business.greaterirmochamber.com/events/details/free-fallin-tom-petty-tribute-band-3237
END:VEVENT

END:VCALENDAR
