BEGIN:VCALENDAR
VERSION:2.0
PRODID:-//ChamberMaster//Event Calendar 2.0//EN
METHOD:PUBLISH
X-PUBLISHED-TTL:P3D
REFRESH-INTERVAL:P3D
CALSCALE:GREGORIAN
BEGIN:VEVENT
DTSTART:20161102T160000Z
DTEND:20161102T190000Z
X-MICROSOFT-CDO-ALLDAYEVENT:FALSE
SUMMARY:FREE Flu Shots for Irmo Chamber Members!
DESCRIPTION:Get your flu shot now.....free of charge!  Blue Cross Blue Shield of South Carolina has partnered with Doctor's Care to provide FREE flu shots to all current Irmo Chamber members.  Space is limited so please register today!
X-ALT-DESC;FMTTYPE=text/html:Get your flu shot now.....free of charge! &nbsp\;Blue Cross Blue Shield of South Carolina has partnered with Doctor&#39\;s Care to provide FREE flu shots to all current Irmo&nbsp\;Chamber members. &nbsp\;Space is limited so please register today!
LOCATION:Greater Irmo Chamber Building 1235 Columbia Ave. Irmo\, SC 29063
UID:e.1333.2490
SEQUENCE:3
DTSTAMP:20260425T001643Z
URL:https://business.greaterirmochamber.com/events/details/free-flu-shots-for-irmo-chamber-members-2490
END:VEVENT

END:VCALENDAR
