BEGIN:VCALENDAR
VERSION:2.0
PRODID:-//ChamberMaster//Event Calendar 2.0//EN
METHOD:PUBLISH
X-PUBLISHED-TTL:P3D
REFRESH-INTERVAL:P3D
CALSCALE:GREGORIAN
BEGIN:VEVENT
DTSTART:20161120T180000Z
DTEND:20161120T230000Z
X-MICROSOFT-CDO-ALLDAYEVENT:FALSE
SUMMARY:Freeway Music 5th Anniversary Showcase
DESCRIPTION:Come join us for our 5th Anniversary celebration showcase November 20th at the Music Farm!! The showcase will Feature student performances from each of our locations!!! #lovewhatyoudo\n\n\n\nwww.FreewayMusic.net
X-ALT-DESC;FMTTYPE=text/html:<div>\n<p>Come join us for our 5th Anniversary celebration showcase November 20th at the Music Farm!! The showcase will Feature student performances from each of our locations!!!&nbsp\;<span style="color:rgb(54\, 88\, 153)\; font-family:inherit"><a class="_58cn" href="https://www.facebook.com/hashtag/lovewhatyoudo?source=feed_text&amp\;story_id=1746757365575068" style="color: rgb(54\, 88\, 153)\; cursor: pointer\; text-decoration: none\; font-family: inherit\;"><span style="color:rgb(66\, 103\, 178)\; font-family:inherit">#</span><span style="font-family:inherit">lovewhatyoudo</span></a></span></p>\n</div>\n\n<div>\n<p>www.FreewayMusic.net&nbsp\;<br />\n&nbsp\;</p>\n</div>\n\n<div>\n<div>\n<div>\n<div>&nbsp\;</div>\n</div>\n</div>\n</div>\n
LOCATION:The Music Farm 1022 Senate St Columbia\, SC 29201
UID:e.1333.2499
SEQUENCE:3
DTSTAMP:20260424T230007Z
URL:https://business.greaterirmochamber.com/events/details/freeway-music-5th-anniversary-showcase-2499
END:VEVENT

END:VCALENDAR
