BEGIN:VCALENDAR
VERSION:2.0
PRODID:-//ChamberMaster//Event Calendar 2.0//EN
METHOD:PUBLISH
X-PUBLISHED-TTL:P3D
REFRESH-INTERVAL:P3D
CALSCALE:GREGORIAN
BEGIN:VEVENT
DTSTART:20191008T213000Z
DTEND:20191008T233000Z
X-MICROSOFT-CDO-ALLDAYEVENT:FALSE
SUMMARY:#FunChamber Flow Painting
DESCRIPTION:Join us for a super fun night of flow painting with one of our newest partners:  Swirly Girl Arts at Splurge!  \n\n\n\nFlow painting is a unique and fun art form that allows you to create a one of a kind piece of art.  No two paintings are ever alike!  The Swirly Girls will teach you how to mix your paints\, along with 2 different techniques to use.  You will flow paint (1) Vinyl record and (1) 10x10 canvas.  All materials are provided....all you do is show up!  Please bring or wear an old t-shirt\, as it tends to get a little messy.   Aprons will be on hand as well.  Refreshments and munchies will be provided and you can feel free to BYOB!
X-ALT-DESC;FMTTYPE=text/html:<div style="font-family: -webkit-standard\; caret-color: rgb(0\, 0\, 0)\; color: rgb(0\, 0\, 0)\;">&nbsp\;<span style="font-size:14px\;"><span style="font-family:arial\;">Join us for a super fun night of flow painting with one of our newest partners: &nbsp\;Swirly Girl Arts at Splurge! &nbsp\;<br />\n<br />\nFlow painting is a unique and fun art form that allows you to create a one of a kind piece of art.&nbsp\; No two paintings are ever alike!&nbsp\; The Swirly Girls will teach you how to mix your paints\, along with 2&nbsp\;different techniques to use.&nbsp\; You will flow paint (1) Vinyl record and (1) 10x10 canvas.&nbsp\; All materials are provided....all you do is show up!&nbsp\; Please bring or wear&nbsp\;an old t-shirt\,&nbsp\;as it tends to get a little messy. &nbsp\; Aprons will be on hand as well. &nbsp\;Refreshments and munchies will be provided and you can feel free to BYOB! &nbsp\;</span></span></div>\n
LOCATION:Splurge 6169 St. Andrews Rd. Columbia\, SC 29212 (right between Big Lots and Zorba's)
UID:e.1333.3365
SEQUENCE:3
DTSTAMP:20260422T173640Z
URL:https://business.greaterirmochamber.com/events/details/funchamber-flow-painting-3365
END:VEVENT

END:VCALENDAR
