BEGIN:VCALENDAR
VERSION:2.0
PRODID:-//ChamberMaster//Event Calendar 2.0//EN
METHOD:PUBLISH
X-PUBLISHED-TTL:P3D
REFRESH-INTERVAL:P3D
CALSCALE:GREGORIAN
BEGIN:VEVENT
DTSTART:20161011T233000Z
DTEND:20161012T020000Z
X-MICROSOFT-CDO-ALLDAYEVENT:FALSE
SUMMARY:Gayle Tzemach Lemmon
DESCRIPTION:An intrepid chronicler of strong and resourceful women\, Gayle Tzemach Lemmon is a senior fellow at the Council on Foreign Relations and author of the NY Times best-sellers Ashley’s War: The Untold Story of a Team of Women Soldiers?on the Special Ops Battlefield and The Dressmaker of Khair Khana\, the story of a young entrepreneur who supported her community under the rule of the Taliban.
X-ALT-DESC;FMTTYPE=text/html:An intrepid chronicler of strong and resourceful women\, Gayle Tzemach Lemmon is a senior fellow at the Council on Foreign Relations and author of the NY Times best-sellers Ashley’s War: The Untold Story of a Team of Women Soldiers?on the Special Ops Battlefield and The Dressmaker of Khair Khana\, the story of a young entrepreneur who supported her community under the rule of the Taliban. \n
LOCATION:Harbison Theatre at Midlands Technical College 7300 College Street Irmo\, SC 29063 803-407-5011
UID:e.1333.2441
SEQUENCE:3
DTSTAMP:20260425T015442Z
URL:https://business.greaterirmochamber.com/events/details/gayle-tzemach-lemmon-10-11-2016-2441
END:VEVENT

END:VCALENDAR
