BEGIN:VCALENDAR
VERSION:2.0
PRODID:-//ChamberMaster//Event Calendar 2.0//EN
METHOD:PUBLISH
X-PUBLISHED-TTL:P3D
REFRESH-INTERVAL:P3D
CALSCALE:GREGORIAN
BEGIN:VEVENT
DTSTART:20170929T233000Z
DTEND:20170930T023000Z
X-MICROSOFT-CDO-ALLDAYEVENT:FALSE
SUMMARY:GENTRI: The Gentlemen Trio
DESCRIPTION:Pioneers of "Cinematic Pop\," GENTRI's music pulses with lush\, epic orchestration and dynamic\, three-part harmony. These gentlemen have held their own onstage with Tony Award-winning vocalist Idina Menzel and with the legendary rock band\, Journey. Here for their first South Carolina engagement\, they will perform favorite ballads of stage and screen\, as well as their original music\, joined by a select ensemble of musicians from the S.C. Philharmonic.
X-ALT-DESC;FMTTYPE=text/html:Pioneers of &ldquo\;Cinematic Pop\,&rdquo\; GENTRI&rsquo\;s music pulses with lush\, epic orchestration and dynamic\, three-part harmony. These gentlemen have held their own onstage with Tony Award-winning vocalist Idina Menzel and with the legendary rock band\, Journey. Here for their first South Carolina engagement\, they will perform favorite ballads of stage and screen\, as well as their original music\, joined by a select ensemble of musicians from the S.C. Philharmonic.
LOCATION:Harbison Theatre at Midlands Technical College - 7300 College Street\, Irmo\, SC 29063
UID:e.1333.2778
SEQUENCE:3
DTSTAMP:20260424T083042Z
URL:https://business.greaterirmochamber.com/events/details/gentri-the-gentlemen-trio-2778
END:VEVENT

END:VCALENDAR
