BEGIN:VCALENDAR
VERSION:2.0
PRODID:-//ChamberMaster//Event Calendar 2.0//EN
METHOD:PUBLISH
X-PUBLISHED-TTL:P3D
REFRESH-INTERVAL:P3D
CALSCALE:GREGORIAN
BEGIN:VEVENT
DTSTART:20200714T230000Z
DTEND:20200715T000000Z
X-MICROSOFT-CDO-ALLDAYEVENT:FALSE
SUMMARY:God's Peace Starts with You:4 Week\, Men's Evening Bible Study via Zoom
DESCRIPTION:We live in a time of high anxiety: We are uncertain about the future\, and there seems to be so much that needs to change\, and so little clarity on how to do it.  \n\nAnxiety and fear can\, not only paralyze us\, they can make us do things that add to the storm and stress we see all around us. \n\nBut a person at peace with God\, and with him/herself\, can change the world.\n\nWe will look at these 4 stories from the life of Jesus:\n\nWeek 1: At Peace with Our Family\, Luke 5:1-11\n\nWeek 2: At Peace with Our "Enemies"\, Luke 6:27-36\n\nWeek 3: At Peace with Our Neighbor\, Luke 10:25-37\n\nWeek 4: At Peace with God\, Luke 23:44-49\n\nEach story shows how we can have and share the peace that Jesus gives. Again and again\, Jesus entered situations where life was breaking down\, and he brought the power to change\, heal\, and give peace.  We can do that\, too\, when we learn how Jesus' peace begins with each of us\, right where we are.\n\nThis Bible study is for people who are brand new to Foundation Church - so y'all come\, and enjoy!  You can read the (short) Bible story before we meet\, or you can come\, listen to it read\, ask questions\, and pray with - or be prayed for.  We want everyone to feel at home\, and meet God in a new\, powerful way.\n\nThe Men will begin Tuesday\, July 7\, 7:00-8:00pm\, and will meet once a week for 4 weeks\, finishing on Tuesday\, July 28.\n\nThe Women will begin Wednesday\, July 8\, 7:30-8:30pm\, and will meet once a week\, for 4 weeks\, finishing on Wednesday\, July 29.
X-ALT-DESC;FMTTYPE=text/html:<p>We live in a time of high anxiety: We are uncertain about the future\, and there seems to be so much that needs to change\, and so little clarity on how to do it.&nbsp\;&nbsp\;</p>\n\n<p>Anxiety and fear can\, not only paralyze us\, they can make us do things that add to the storm and stress we see all around us.&nbsp\;</p>\n\n<p>But a person at peace with God\, and with him/herself\, can change the world.</p>\n\n<p>We will look at these 4 stories from the life of Jesus:</p>\n\n<p>Week 1: At Peace with Our Family\, Luke 5:1-11</p>\n\n<p>Week 2: At Peace with Our &quot\;Enemies&quot\;\, Luke 6:27-36</p>\n\n<p>Week 3: At Peace with Our Neighbor\, Luke 10:25-37</p>\n\n<p>Week 4: At Peace with God\, Luke 23:44-49</p>\n\n<p>Each story shows how we can have and share the peace that Jesus gives. Again and again\, Jesus entered situations where life was breaking down\, and he brought the power to change\, heal\, and give peace. &nbsp\;We can do that\, too\, when we learn how Jesus&#39\; peace begins with each of us\, right where we are.</p>\n\n<p>This Bible study is for people who are brand new to Foundation Church - so y&#39\;all come\, and enjoy! &nbsp\;You can read the (short) Bible story before we meet\, or you can come\, listen to it read\, ask questions\, and pray with - or be prayed for. &nbsp\;We want everyone to feel at home\, and meet God in a new\, powerful way.</p>\n\n<p><strong>The Men will begin Tuesday\, July 7\, 7:00-8:00pm</strong>\, and will meet once a week for 4 weeks\, finishing on Tuesday\, July 28.</p>\n\n<p><strong>The Women will begin Wednesday\, July 8\, 7:30-8:30pm</strong>\, and will meet once a week\, for 4 weeks\, finishing on Wednesday\, July 29.&nbsp\;</p>\n
LOCATION:
UID:e.1333.3944
SEQUENCE:3
DTSTAMP:20260422T031430Z
URL:https://business.greaterirmochamber.com/events/details/god-s-peace-starts-with-you-4-week-men-s-evening-bible-study-via-zoom-07-14-2020-3944
END:VEVENT

END:VCALENDAR
