BEGIN:VCALENDAR
VERSION:2.0
PRODID:-//ChamberMaster//Event Calendar 2.0//EN
METHOD:PUBLISH
X-PUBLISHED-TTL:P3D
REFRESH-INTERVAL:P3D
CALSCALE:GREGORIAN
BEGIN:VEVENT
DTSTART:20190130T170000Z
DTEND:20190130T180000Z
X-MICROSOFT-CDO-ALLDAYEVENT:FALSE
SUMMARY:Google Workshop: Get Your Business Online
DESCRIPTION:Get found on-line! Learn how to get online and claim your FREE Google listing and then learn how to use this listing to help your business grow by getting found when consumers search for your products and services online. You will learn simple ways to grow like how to post and how to ask for and respond to reviews.\n\n \n\nYou will need to bring your laptop and photos of your business and products as well as you and your staff - the more pictures the better! We will need a short description of your business\, your hours\, your contact information\, and your logo. If you have upcoming events we can also post that information.\n\nGet found in those micro-moments when people are searching for your products and services on their phone\, tablet\, or computer. This is one way you can help your business grow. \n\n \n\nYou will learn how to:\n\n	Create Business Listing\n	Edit and Maintain Your Hours\n	Post Specials or Events\n	Post Photos\n	Create FREE 1 page website (optional)\n	Manage Reviews\n	Check Insights\, see how many people are searching for you!\n\n  \n\nYour Google business listing is SO IMPORTANT! This is the first thing people see when they look for your products and services in your area so you want to be sure that your information is correct and that your reviews are all 5 Star!
X-ALT-DESC;FMTTYPE=text/html:<span style="font-family:arial\;"><span style="letter-spacing:0.4pt\;"><span style="font-size:11.5pt\;">Get found on-line! Learn how to get online and claim your FREE Google listing and then learn how to use this listing to help your business grow by getting found when consumers search for your products and services online. You will learn simple ways to grow like how to post and how to ask for and respond to reviews.</span></span><br />\n&nbsp\;<br />\n<span style="letter-spacing:0.4pt\;"><span style="font-size:11.5pt\;">You will need to bring your laptop and photos of your business and products as well as you and your staff - the more pictures the better! We will need a short description of your business\, your hours\, your contact information\, and your logo. If you have upcoming events we can also post that information.</span></span><br />\n<span style="letter-spacing:0.4pt\;"><span style="font-size:11.5pt\;">Get found in those micro-moments when people are searching for your products and services on their phone\, tablet\, or computer. This is one way you can help your business grow.&nbsp\;</span></span><br />\n&nbsp\;<br />\n<span style="letter-spacing:0.4pt\;"><span style="font-size:11.5pt\;">You will learn how to:</span></span></span>\n<ul>\n	<li style="color:rgb(0\, 0\, 0)\;font-size:12pt\;font-family:Times New Roman\, serif\;"><span style="font-family:arial\;"><span style="letter-spacing:0.4pt\;"><span style="font-size:11.5pt\;">Create Business Listing</span></span></span></li>\n	<li style="color:rgb(0\, 0\, 0)\;font-size:12pt\;font-family:Times New Roman\, serif\;"><span style="font-family:arial\;"><span style="letter-spacing:0.4pt\;"><span style="font-size:11.5pt\;">Edit and Maintain Your Hours</span></span></span></li>\n	<li style="color:rgb(0\, 0\, 0)\;font-size:12pt\;font-family:Times New Roman\, serif\;"><span style="font-family:arial\;"><span style="letter-spacing:0.4pt\;"><span style="font-size:11.5pt\;">Post Specials or Events</span></span></span></li>\n	<li style="color:rgb(0\, 0\, 0)\;font-size:12pt\;font-family:Times New Roman\, serif\;"><span style="font-family:arial\;"><span style="letter-spacing:0.4pt\;"><span style="font-size:11.5pt\;">Post Photos</span></span></span></li>\n	<li style="color:rgb(0\, 0\, 0)\;font-size:12pt\;font-family:Times New Roman\, serif\;"><span style="font-family:arial\;"><span style="letter-spacing:0.4pt\;"><span style="font-size:11.5pt\;">Create FREE 1 page website (optional)</span></span></span></li>\n	<li style="color:rgb(0\, 0\, 0)\;font-size:12pt\;font-family:Times New Roman\, serif\;"><span style="font-family:arial\;"><span style="letter-spacing:0.4pt\;"><span style="font-size:11.5pt\;">Manage Reviews</span></span></span></li>\n	<li style="color:rgb(0\, 0\, 0)\;font-size:12pt\;font-family:Times New Roman\, serif\;"><span style="font-family:arial\;"><span style="letter-spacing:0.4pt\;"><span style="font-size:11.5pt\;">Check Insights\, see how many people are searching for you!</span></span></span></li>\n</ul>\n<span style="font-family:arial\;"> &nbsp\;<br />\n<span style="letter-spacing:0.4pt\;"><span style="font-size:11.5pt\;">Your Google business listing is SO IMPORTANT!&nbsp\;This is the first thing people see when they look for your products and services in your area so you want to be sure that your information is correct and that your reviews are all 5 Star!</span></span></span>
LOCATION:Greater Irmo Chamber 1235 Columbia Ave. Irmo\, SC 29063
UID:e.1333.3296
SEQUENCE:3
DTSTAMP:20260423T071210Z
URL:https://business.greaterirmochamber.com/events/details/google-workshop-get-your-business-online-3296
END:VEVENT

END:VCALENDAR
