BEGIN:VCALENDAR
VERSION:2.0
PRODID:-//ChamberMaster//Event Calendar 2.0//EN
METHOD:PUBLISH
X-PUBLISHED-TTL:P3D
REFRESH-INTERVAL:P3D
CALSCALE:GREGORIAN
BEGIN:VEVENT
DTSTART:20191114T163000Z
DTEND:20191114T183000Z
X-MICROSOFT-CDO-ALLDAYEVENT:FALSE
SUMMARY:Google Workshop: Spruce up your holiday marketing plan!
DESCRIPTION:Spruce up your Holiday Marketing Plan!\n\n\nJoin Nancy Williamson on Thursday\, November 14th\, as Google partners with Constant Contact to bring local businesses expert tips on how to reach customers using free business listings\, online advertising\, and email marketing plans.\n\n\n\nNancy is an Official City Partner for Google's Get Your Business Online program and was awarded the 2019 Grow with Google High Impact banner award. She will bring handouts for you from Google so you will have the information you need to get the most out of your free Google Business Listing.
X-ALT-DESC;FMTTYPE=text/html:<h2 style="font-family:Neue Plak\, -apple-system\, BlinkMacSystemFont\, Roboto\, Helvetica Neue\, Helvetica\, Tahoma\, Arial\, sans-serif\;letter-spacing:0.5px\;padding:0px\;color:rgb(30\, 10\, 60)\;font-size:17px\;line-height:21px\;"><span style="font-size:14px\;"><span style="font-family:arial\;"><span style="padding-top:0px\;">Spruce up your Holiday Marketing Plan!</span></span></span></h2>\n\n<div style="color:rgb(57\, 54\, 79)\;font-family:Neue Plak\, -apple-system\, BlinkMacSystemFont\, Roboto\, Helvetica Neue\, Helvetica\, Tahoma\, Arial\, sans-serif\;font-size:13.066661834716797px\;letter-spacing:0.5px\;padding:0px\;">\n<div style="padding:0px\;"><span style="font-size:14px\;"><span style="font-family:arial\;"><span style="padding-top:0px\;">Join Nancy Williamson on Thursday\, November 14th\, as Google partners with Constant Contact to bring local businesses expert tips on how to reach customers using free business listings\, online advertising\, and email marketing plans.</span><br />\n<br />\n<span style="caret-color: rgb(111\, 114\, 135)\; letter-spacing: 0.5px\;">Nancy is an Official City Partner for Google&#39\;s Get Your Business Online program and was awarded the 2019 Grow with Google High Impact banner award. She will bring handouts for you from Google so you will have the information you need to get the most out of your free Google Business Listing.</span></span></span><br />\n<br />\n<br />\n&nbsp\;</div>\n</div>\n
LOCATION:Greater Irmo Chamber 1235 Columbia Ave. Irmo\, SC 29063
UID:e.1333.3395
SEQUENCE:3
DTSTAMP:20260422T160925Z
URL:https://business.greaterirmochamber.com/events/details/google-workshop-spruce-up-your-holiday-marketing-plan-3395
END:VEVENT

END:VCALENDAR
