BEGIN:VCALENDAR
VERSION:2.0
PRODID:-//ChamberMaster//Event Calendar 2.0//EN
METHOD:PUBLISH
X-PUBLISHED-TTL:P3D
REFRESH-INTERVAL:P3D
CALSCALE:GREGORIAN
BEGIN:VEVENT
DTSTART:20170421T153000Z
DTEND:20170421T163000Z
X-MICROSOFT-CDO-ALLDAYEVENT:FALSE
SUMMARY:Grand Opening and Ribbon Cutting/Woodforest National Bank
DESCRIPTION:Join us to welcome Woodforest National Bank!!\n\nRibbon Cutting: 11:45 a.m.
X-ALT-DESC;FMTTYPE=text/html:Join us to welcome Woodforest National Bank!!<br />\nRibbon Cutting: 11:45 a.m.
LOCATION:360 Harbison Boulevard (inside Wal-Mart)
UID:e.1333.2541
SEQUENCE:3
DTSTAMP:20260424T155617Z
URL:https://business.greaterirmochamber.com/events/details/grand-opening-and-ribbon-cutting-woodforest-national-bank-2541
END:VEVENT

END:VCALENDAR
