BEGIN:VCALENDAR
VERSION:2.0
PRODID:-//ChamberMaster//Event Calendar 2.0//EN
METHOD:PUBLISH
X-PUBLISHED-TTL:P3D
REFRESH-INTERVAL:P3D
CALSCALE:GREGORIAN
BEGIN:VEVENT
DTSTART:20170418T230000Z
DTEND:20170419T010000Z
X-MICROSOFT-CDO-ALLDAYEVENT:FALSE
SUMMARY:Growing Healthy: Neolife Seminar
DESCRIPTION:Find out why millions of health-conscious people just like you have put their trust in this industry-leading company with 59 years of experience and doing business in 58 countries around the world.  Invite your friends\, family and loved ones to attend this seminar and discover the 3 biggest Missing Links in our diets\, according to most major health organizations\, and how YOU can fill these nutritional gaps with clinically proven solutions.
X-ALT-DESC;FMTTYPE=text/html:Find out why millions of health-conscious people just like you have put their trust in this industry-leading company with 59 years of experience and doing business in 58 countries around the world. &nbsp\;Invite your friends\, family and loved ones to attend this seminar and discover the 3 biggest Missing Links in our diets\, according to most major health organizations\, and how YOU can fill these nutritional gaps with clinically proven solutions.
LOCATION:The River Center at Saluda Shoals 5605 Bush River Rd. Columbia\, SC 29212
UID:e.1333.2539
SEQUENCE:3
DTSTAMP:20260424T155225Z
URL:https://business.greaterirmochamber.com/events/details/growing-healthy-neolife-seminar-2539
END:VEVENT

END:VCALENDAR
