BEGIN:VCALENDAR
VERSION:2.0
PRODID:-//ChamberMaster//Event Calendar 2.0//EN
METHOD:PUBLISH
X-PUBLISHED-TTL:P3D
REFRESH-INTERVAL:P3D
CALSCALE:GREGORIAN
BEGIN:VEVENT
DTSTART;VALUE=DATE:20181217
DTEND;VALUE=DATE:20190112
TRANSP:TRANSPARENT
X-MICROSOFT-CDO-ALLDAYEVENT:TRUE
SUMMARY:GUTBUSTERS CHALLENGE 2019
DESCRIPTION:2018 has been the year of the #FUNCHAMBER!  We are hoping to add the #HEALTHYCHAMBER hashtag to our social media in 2019 by participating in the #GUTBUSTERS HEALTH and FITNESS CHALLENGE!  If you are interested in shedding a few of the holiday pounds\, making some lifestyle changes and working on improving your overall health and wellness then THIS is the competition for you!\n\n\n\nDETAILS:  Your $50 entry fee goes into the pot of cash prizes.  Cash prizes will be awarded in the following categories:\n\n \n\n	Most Fat Loss (%):  The participant who loses the largest percentage of their respective body fat % will win this category.  Example:  If you begin at 24% body fat and end at 12% body fat\, you have lost 50% of your body fat.  This grand prize will be split between males and females.  Example:  most fat loss % by a female and most fat loss % by a male.\n	Most Fat Loss (lbs):  this is not gender specific.\n	Most Muscle Gain (lbs):  this is not gender specific.\n\nAll monies collected for the entry fee will be divided up among these 3 categories.  Once registration has ended on January 11\, 2019\, we will announce the prize monies for each category.\n\n\n\nBod Pod Test:  You must schedule a preliminary Bod Pod test to participate in this competition.  Intial test window is December 17\, 2018 through January 11\, 2019.  No initial assessments will be accepted after January 11\, 2019.  To schedule your assessment\, please click this link: https://squareup.com/appointments/book/64N3VAHNPDT8T/get-well-with-michele-columbia-sc\n\n\n\nTo be eligible for the grand prize\, you must schedule your final Bod Pod assessment between April 15\, 2019 and May 10\, 2019.  You will not be eligible for a grand prize if your Bod Pod assessment is not completed by May 10\, 2019.  To schedule your assessment\, please click this link: https://squareup.com/appointments/book/64N3VAHNPDT8T/get-well-with-michele-columbia-sc\n\n\n\nGood luck everyone!!
X-ALT-DESC;FMTTYPE=text/html:<strong>2018</strong> has been the year of the <strong>#FUNCHAMBER</strong>! &nbsp\;We are hoping to add the <strong>#HEALTHYCHAMBER</strong> hashtag to our social media in <strong>2019</strong> by participating in the <strong>#GUTBUSTERS HEALTH and FITNESS CHALLENGE!</strong> &nbsp\;If you are interested in shedding a few of the holiday pounds\, making some lifestyle changes and working on improving your overall health and wellness then <strong>THIS</strong> is the competition for you!<br />\n<br />\n<strong>DETAILS: </strong>&nbsp\;Your $50 entry fee goes into the pot of cash prizes. &nbsp\;Cash prizes will be awarded in the following categories:<br />\n&nbsp\;\n<ul>\n	<li><strong>Most Fat Loss (%):</strong> &nbsp\;The participant who loses the largest percentage of their respective body fat % will win this category. &nbsp\;<em>Example: &nbsp\;If you begin at 24% body fat and end at 12% body fat\, you have lost 50% of your body fat. &nbsp\;This grand prize will be split between males and females. &nbsp\;Example: &nbsp\;most fat loss % by a female and most fat loss % by a male.</em></li>\n	<li><strong>Most Fat Loss (lbs): </strong>&nbsp\;this is not gender specific.</li>\n	<li><strong>Most Muscle Gain (lbs):</strong> &nbsp\;this is not gender specific.</li>\n</ul>\nAll monies collected for the entry fee will be divided up among these 3 categories. &nbsp\;Once registration has ended on January 11\, 2019\, we will announce the prize monies for each category.<br />\n<br />\n<strong>Bod Pod Test: </strong>&nbsp\;You must schedule a preliminary Bod Pod test to participate in this competition. &nbsp\;Intial test window is December 17\, 2018 through January 11\, 2019. &nbsp\;No initial assessments will be accepted after January 11\, 2019. &nbsp\;To schedule your assessment\, please click this link:&nbsp\;<a href="https://squareup.com/appointments/book/64N3VAHNPDT8T/get-well-with-michele-columbia-sc">https://squareup.com/appointments/book/64N3VAHNPDT8T/get-well-with-michele-columbia-sc</a><br />\n<br />\nTo be eligible for the grand prize\, you must schedule your final Bod Pod assessment between April 15\, 2019 and May 10\, 2019. &nbsp\;You will not be eligible for a grand prize if your Bod Pod assessment is not completed by May 10\, 2019. &nbsp\;To schedule your assessment\, please click this link:&nbsp\;<a href="https://squareup.com/appointments/book/64N3VAHNPDT8T/get-well-with-michele-columbia-sc">https://squareup.com/appointments/book/64N3VAHNPDT8T/get-well-with-michele-columbia-sc</a><br />\n<br />\nGood luck everyone!!
LOCATION:Your Gym. Your Home. Your Local Park. The Dam. The walking track at the high school. Your Yoga Studio. Your Crossfit Gym. Your Kickbox Gym. Your Pilates Studio. Anywhere you can GET MOVING!
UID:e.1333.3284
SEQUENCE:3
DTSTAMP:20260423T071028Z
URL:https://business.greaterirmochamber.com/events/details/gutbusters-challenge-2019-3284
END:VEVENT

END:VCALENDAR
