BEGIN:VCALENDAR
VERSION:2.0
PRODID:-//ChamberMaster//Event Calendar 2.0//EN
METHOD:PUBLISH
X-PUBLISHED-TTL:P3D
REFRESH-INTERVAL:P3D
CALSCALE:GREGORIAN
BEGIN:VEVENT
DTSTART:20191031T160000Z
DTEND:20191101T000000Z
X-MICROSOFT-CDO-ALLDAYEVENT:FALSE
SUMMARY:Halloween Trunk or Treat at Steve Padgett's Honda of Lake Murray
DESCRIPTION:Join us on October 31st\, 12pm-8pm\, for a fun Trunk or Treat in our showroom! Candy and coloring activities for the kids while you check out the amazing trunk space in our Hondas\, get an oil change\, or stay for a bite to eat at our caf ! *Blue Bucket Friendly
X-ALT-DESC;FMTTYPE=text/html:<h3><span style="color:#000000"><span style="font-family:inherit\; font-size:14px">Join us on October 31st\, 12pm-8pm\, for a fun Trunk or Treat in our showroom! Candy and coloring activities for the kids while you check out the amazing trunk space in our Hondas\, get an oil change\, or stay for a bite to eat at our caf&eacute\;! *Blue Bucket Friendly</span></span></h3>\n
LOCATION:Steve Padgett's Honda of Lake Murray 750 Western Lane\, Irmo I-26 @ Exit 101B
UID:e.1333.3384
SEQUENCE:3
DTSTAMP:20260422T174243Z
URL:https://business.greaterirmochamber.com/events/details/halloween-trunk-or-treat-at-steve-padgett-s-honda-of-lake-murray-3384
END:VEVENT

END:VCALENDAR
