BEGIN:VCALENDAR
VERSION:2.0
PRODID:-//ChamberMaster//Event Calendar 2.0//EN
METHOD:PUBLISH
X-PUBLISHED-TTL:P3D
REFRESH-INTERVAL:P3D
CALSCALE:GREGORIAN
BEGIN:VEVENT
DTSTART:20160818T190000Z
DTEND:20160818T220000Z
X-MICROSOFT-CDO-ALLDAYEVENT:FALSE
SUMMARY:HarborChase of Columbia Art Walk: A Portion of the Proceeds to Benefit the Walk to End Alzheimer’s
DESCRIPTION:Join us for the HarborChase Art Walk and shop until\n\nyou drop with a variety of in-house shopping vendors.\n\nPeruse purses\, totes\, jewelry\, candles and much more\n\nwith a portion of the proceeds to benefit HarborChase's\n\nWalk to End Alzheimer's team. While you are here\, take\n\na stroll through our beautiful community and enjoy\n\ncomplimentary refreshments and chef-prepared\n\nhors d'oeuvres. It is a great opportunity to experience\n\nthe exceptional lifestyle that our residents enjoy every\n\nday at HarborChase.\n\nFirst five to RSVP\, receive a free gift!\n\n(803) 781-2243
X-ALT-DESC;FMTTYPE=text/html:<div>Join us for the HarborChase Art Walk and shop until<br />\nyou drop with a variety of in-house shopping vendors.<br />\nPeruse purses\, totes\, jewelry\, candles and much more<br />\nwith a portion of the proceeds to benefit HarborChase&rsquo\;s<br />\nWalk to End Alzheimer&rsquo\;s team. While you are here\, take<br />\na stroll through our beautiful community and enjoy<br />\ncomplimentary refreshments and chef-prepared<br />\nhors d&rsquo\;oeuvres. It is a great opportunity to experience<br />\nthe exceptional lifestyle that our residents enjoy every<br />\nday at HarborChase.<br />\nFirst five to RSVP\, receive a free gift!<br />\n(803) 781-2243</div>\n
LOCATION:HarborChase of Columbia Assisted Living & Memory Care 120 Fairforest Road\, Columbia\, SC 29212
UID:e.1333.2436
SEQUENCE:3
DTSTAMP:20260425T034349Z
URL:https://business.greaterirmochamber.com/events/details/harborchase-of-columbia-art-walk-a-portion-of-the-proceeds-to-benefit-the-walk-to-end-alzheimer-s-08-18-2016-2436
END:VEVENT

END:VCALENDAR
