BEGIN:VCALENDAR
VERSION:2.0
PRODID:-//ChamberMaster//Event Calendar 2.0//EN
METHOD:PUBLISH
X-PUBLISHED-TTL:P3D
REFRESH-INTERVAL:P3D
CALSCALE:GREGORIAN
BEGIN:VEVENT
DTSTART:20191011T233000Z
DTEND:20191012T013000Z
X-MICROSOFT-CDO-ALLDAYEVENT:FALSE
SUMMARY:Harlem 100 featuring Mwenso & the Shakes
DESCRIPTION:Created in collaboration with the National Jazz Museum in Harlem and JMG Live\, this modern variety show captures the sights and sounds of Harlem when legendary artists made Harlem the cultural center of the country. Hosted by Michael Mwenso\, Harlem 100 presents a portrayal of the most exciting musicians and dancers made famous in the Apollo Theatre\, the Cotton Club\, and other venues of the Harlem Renaissance. Featuring the music of Fats Waller\, Duke Ellington\, Billie Holiday\, Bessie Smith\, and Ethel Waters\, Harlem 100 celebrates one of the most influential artistic movements in our country. Be sure to join us in the lobby during intermission for a special presentation honoring donors to the MTC Foundation.
X-ALT-DESC;FMTTYPE=text/html:Created in collaboration with the National Jazz Museum in Harlem and JMG Live\, this modern variety show captures the sights and sounds of Harlem when legendary artists made Harlem the cultural center of the country. Hosted by Michael Mwenso\, Harlem 100 presents a portrayal of the most exciting musicians and dancers made famous in the Apollo Theatre\, the Cotton Club\, and other venues of the Harlem Renaissance. Featuring the music of Fats Waller\, Duke Ellington\, Billie Holiday\, Bessie Smith\, and Ethel Waters\, Harlem 100 celebrates one of the most influential artistic movements in our country. Be sure to join us in the lobby during intermission for a special presentation honoring donors to the MTC Foundation.
LOCATION:Harbison Theatre at Midlands Technical College 7300 College Street Irmo\, SC 29063
UID:e.1333.3381
SEQUENCE:3
DTSTAMP:20260422T173735Z
URL:https://business.greaterirmochamber.com/events/details/harlem-100-featuring-mwenso-the-shakes-3381
END:VEVENT

END:VCALENDAR
