BEGIN:VCALENDAR
VERSION:2.0
PRODID:-//ChamberMaster//Event Calendar 2.0//EN
METHOD:PUBLISH
X-PUBLISHED-TTL:P3D
REFRESH-INTERVAL:P3D
CALSCALE:GREGORIAN
BEGIN:VEVENT
DTSTART:20260522T130000Z
DTEND:20260522T190000Z
X-MICROSOFT-CDO-ALLDAYEVENT:FALSE
SUMMARY:Headshot Day at Irmo Chamber
DESCRIPTION:Headshot Day with ESNTL Headshots is Back at the Irmo Chamber!\n\nThis is your opportunity to update your professional image with a high-quality headshot that represents you at your best.\n\nWhether you are refreshing your brand\, updating your LinkedIn profile\, or preparing for new opportunities\, this session is designed to give you a polished\, professional look in a convenient and efficient setting.\n\nSpots are limited and tend to fill quickly. Secure your session now before availability is gone.
X-ALT-DESC;FMTTYPE=text/html:<p style="color: rgb(0\, 0\, 0)\; font-family: Aptos\; caret-color: rgb(255\, 255\, 255)\;"><span style="font-size:18px\;"><span style="font-family:verdana\;"><strong>Headshot Day with ESNTL Headshots is Back at the Irmo Chamber!</strong></span></span></p>\n\n<p style="color: rgb(0\, 0\, 0)\; font-family: Aptos\; caret-color: rgb(255\, 255\, 255)\;"><span style="font-size:18px\;"><span style="font-family:verdana\;"><font color="#000000">This is your opportunity to update your professional image with a high-quality headshot that represents you at your best.</font></span></span></p>\n\n<p style="color: rgb(0\, 0\, 0)\; font-family: Aptos\; caret-color: rgb(255\, 255\, 255)\;"><span style="font-size:18px\;"><span style="font-family:verdana\;"><font color="#000000">Whether you are refreshing your brand\, updating your LinkedIn profile\, or preparing for new opportunities\, this session is designed to give you a polished\, professional look in a convenient and efficient setting.</font></span></span></p>\n\n<p style="color: rgb(0\, 0\, 0)\; font-family: Aptos\; caret-color: rgb(255\, 255\, 255)\;"><span style="font-size:18px\;"><span style="font-family:verdana\;"><font color="#000000">Spots are limited and tend to fill quickly. Secure your session now before availability is gone.</font></span></span></p>\n\n<p style="color: rgb(34\, 34\, 34)\; font-family: Arial\, Helvetica\, sans-serif\; font-size: small\; margin: 0in\; vertical-align: baseline\;">&nbsp\;</p>\n
LOCATION:1235 Columbia Ave Irmo\, SC 29063
UID:e.1333.6528
SEQUENCE:3
DTSTAMP:20260422T182256Z
URL:https://business.greaterirmochamber.com/events/details/headshot-day-at-irmo-chamber-6528
END:VEVENT

END:VCALENDAR
