BEGIN:VCALENDAR
VERSION:2.0
PRODID:-//ChamberMaster//Event Calendar 2.0//EN
METHOD:PUBLISH
X-PUBLISHED-TTL:P3D
REFRESH-INTERVAL:P3D
CALSCALE:GREGORIAN
BEGIN:VEVENT
DTSTART:20170627T153000Z
DTEND:20170627T163000Z
X-MICROSOFT-CDO-ALLDAYEVENT:FALSE
SUMMARY:Hi-En Nail Salon & Spa Ribbon Cutting
DESCRIPTION:Join us to welcome Hi-En Nail Salon & Spa to our Chamber!!!\n\nLight lunch provided.
X-ALT-DESC;FMTTYPE=text/html:Join us to welcome Hi-En Nail Salon &amp\; Spa to our Chamber!!!<br />\nLight lunch provided.
LOCATION:7320 Broad River Road\, Suite I Irmo\, SC 29063
UID:e.1333.2563
SEQUENCE:3
DTSTAMP:20260424T125251Z
URL:https://business.greaterirmochamber.com/events/details/hi-en-nail-salon-spa-ribbon-cutting-2563
END:VEVENT

END:VCALENDAR
