BEGIN:VCALENDAR
VERSION:2.0
PRODID:-//ChamberMaster//Event Calendar 2.0//EN
METHOD:PUBLISH
X-PUBLISHED-TTL:P3D
REFRESH-INTERVAL:P3D
CALSCALE:GREGORIAN
BEGIN:VEVENT
DTSTART:20161215T203000Z
DTEND:20161215T233000Z
X-MICROSOFT-CDO-ALLDAYEVENT:FALSE
SUMMARY:Holiday Bazaar: Market\, Sweets & Such
DESCRIPTION:Join Us At HarborChase of Columbia!\n\n\n\nComplete your holiday shopping\, sampling and gather information about our Harbison community! Dessert social to close the evening!\n\n\n\nBringing A Dessert? RSVP to\n\n(803)781-2243 or\n\ncolumbiaconcierge@hraonline.net
X-ALT-DESC;FMTTYPE=text/html:Join Us At HarborChase of Columbia!<br />\n<br />\nComplete your holiday shopping\, sampling and gather information about our Harbison community! Dessert social to close the evening!<br />\n<br />\nBringing A Dessert? RSVP to<br />\n(803)781-2243 or<br />\n<a href="mailto:columbiaconcierge@hraonline.net">columbiaconcierge@hraonline.net</a>
LOCATION:HarborChase of Columbia Assisted Living & Memory Care 120 Fairforest Road Columbia\, SC 29212
UID:e.1333.2502
SEQUENCE:3
DTSTAMP:20260424T213122Z
URL:https://business.greaterirmochamber.com/events/details/holiday-bazaar-market-sweets-such-2502
END:VEVENT

END:VCALENDAR
