BEGIN:VCALENDAR
VERSION:2.0
PRODID:-//ChamberMaster//Event Calendar 2.0//EN
METHOD:PUBLISH
X-PUBLISHED-TTL:P3D
REFRESH-INTERVAL:P3D
CALSCALE:GREGORIAN
BEGIN:VEVENT
DTSTART:20181202T170000Z
DTEND:20181202T170000Z
X-MICROSOFT-CDO-ALLDAYEVENT:FALSE
SUMMARY:Holiday Pops Featuring the S.C. Philharmonic
DESCRIPTION:This year is something new   TWO Holiday Pops performances for you and your family to enjoy! The festive season is here\, and it's time to celebrate this annual musical tradition with the South Carolina Philharmonic on the Harbison Theatre stage.
X-ALT-DESC;FMTTYPE=text/html:This year is something new &ndash\; TWO Holiday Pops performances for you and your family to enjoy! The festive season is here\, and it&rsquo\;s time to celebrate this annual musical tradition with the South Carolina Philharmonic on the Harbison Theatre stage.
LOCATION:Harbison Theatre at Midlands Technical College 7300 College Street Irmo\, SC 29063
UID:e.1333.3233
SEQUENCE:3
DTSTAMP:20260423T090834Z
URL:https://business.greaterirmochamber.com/events/details/holiday-pops-featuring-the-s-c-philharmonic-3233
END:VEVENT

END:VCALENDAR
