BEGIN:VCALENDAR
VERSION:2.0
PRODID:-//ChamberMaster//Event Calendar 2.0//EN
METHOD:PUBLISH
X-PUBLISHED-TTL:P3D
REFRESH-INTERVAL:P3D
CALSCALE:GREGORIAN
BEGIN:VEVENT
DTSTART:20171222T003000Z
DTEND:20171223T003000Z
X-MICROSOFT-CDO-ALLDAYEVENT:FALSE
SUMMARY:Home for the Ha Ha Ha-liday
DESCRIPTION:Just a few nights before Christmas\, WOW is making plans\, for a show to bring laughter\, to every child\, woman and man! This holiday season be sure to add WOW Productions' new improv show 'Home for the Ha Ha Ha-liday' to your Christmas to-do list. WOW Productions invites all to come and laugh to tears at this Improv Sketch Comedy Show! The show will last for 2 nights only. Tickets are on sale now and available at www.wowproduction.org or by phone at 803-807-2969.
X-ALT-DESC;FMTTYPE=text/html:Just a few nights before Christmas\, WOW is making plans\, for a show to bring laughter\, to every child\, woman and man! This holiday season be sure to add WOW Productions&#39\; new improv show &#39\;Home for the Ha Ha Ha-liday&#39\; to your Christmas to-do list. WOW Productions invites all to come and laugh to tears at this Improv Sketch Comedy Show! The show will last for 2 nights only. Tickets are on sale now and available at www.wowproduction.org or by phone at 803-807-2969.
LOCATION:WOW Performing Arts Center (PAC)\, 5816 Shakespeare Rd\, Suite A\, Columbia\, SC 29223
UID:e.1333.2933
SEQUENCE:3
DTSTAMP:20260424T034416Z
URL:https://business.greaterirmochamber.com/events/details/home-for-the-ha-ha-ha-liday-2933
END:VEVENT

END:VCALENDAR
