BEGIN:VCALENDAR
VERSION:2.0
PRODID:-//ChamberMaster//Event Calendar 2.0//EN
METHOD:PUBLISH
X-PUBLISHED-TTL:P3D
REFRESH-INTERVAL:P3D
CALSCALE:GREGORIAN
BEGIN:VEVENT
DTSTART:20161015T210000Z
DTEND:20161015T230000Z
X-MICROSOFT-CDO-ALLDAYEVENT:FALSE
SUMMARY:Hyatt Place Columbia Harbison presents the 6th Annual HAUNTED HOTEL!
DESCRIPTION:Hyatt Place Columbia Harbison is hosting the 6th Annual Haunted Hotel. Proceeds from this event benefit CAMP KEMO Programs of Palmetto Health Children's Hospital. CAMP KEMO Programs are a variety of psychosocial programs that were developed to meet the needs of patients\, siblings and parents who face challenges created by cancer.\n\n            Hyatt Place is asking companies and organizations to sponsor a room\, donate candy and/or volunteer for this event on October 15 so that the children from the Children's Center for Cancer and Blood Disorders at Palmetto Health Children's Hospital and their families can have a safe and fun place to Trick-or-Treat. The company/organization can come in during the day and decorate their room. At 5:00 pm the children will begin to come in and have dinner in our meeting space and begin to trick-or-treat.  This event lasts from 5 to 7 pm. At the end of the event\, we will announce the winner of the best room that is voted on by the children! This event has been a great success in the past years\, with around 125 children plus their parents coming to enjoy a spooky evening of fun and laughter. \n\n            If you are interested in sponsoring a room\, please contact Traci Westmoreland at traci.westmoreland@hyatt.com for a sponsorship form and additional information on volunteering for this wonderful event!
X-ALT-DESC;FMTTYPE=text/html:<p><strong><span style="color:rgb(85\, 85\, 85)\; font-family:arial\,sans-serif\; font-size:9.5pt">Hyatt Place Columbia Harbison is hosting the 6<sup>th</sup>&nbsp\;Annual Haunted Hotel. Proceeds from this event benefit CAMP KEMO Programs of Palmetto Health Children&rsquo\;s Hospital. CAMP KEMO Programs are a variety of psychosocial programs that were developed to meet the needs of patients\, siblings and parents who face challenges created by cancer.</span></strong></p>\n\n<p><strong><span style="color:rgb(85\, 85\, 85)\; font-family:arial\,sans-serif\; font-size:9.5pt">&nbsp\;&nbsp\;&nbsp\;&nbsp\;&nbsp\;&nbsp\;&nbsp\;&nbsp\;&nbsp\;&nbsp\;&nbsp\;&nbsp\;Hyatt Place is asking companies and organizations to sponsor a room\, donate candy and/or volunteer for this event on October 15&nbsp\;so that the children from the Children&rsquo\;s Center for Cancer and Blood Disorders at Palmetto Health Children&rsquo\;s Hospital and their families can have a safe and fun place to Trick-or-Treat. The company/organization can come in during the day and decorate their room. At 5:00 pm the children will begin to come in and have dinner in our meeting space and begin to trick-or-treat. &nbsp\;</span></strong><strong><span style="color:rgb(85\, 85\, 85)\; font-family:arial\,sans-serif\; font-size:9.5pt">This event lasts from 5 to 7 pm. At the end of the event\, we will announce the winner of the best room that is voted on by the children! This event has been a great success in the past years\, with around 125 children plus their parents coming to enjoy a spooky evening of fun and laughter.&nbsp\;</span></strong></p>\n\n<p><strong><span style="color:rgb(85\, 85\, 85)\; font-family:arial\,sans-serif\; font-size:9.5pt">&nbsp\;&nbsp\;&nbsp\;&nbsp\;&nbsp\;&nbsp\;&nbsp\;&nbsp\;&nbsp\;&nbsp\;&nbsp\;&nbsp\;If you are interested in sponsoring a room\, please contact Traci Westmoreland at traci.westmoreland@hyatt.com for a sponsorship form and additional information on volunteering for this wonderful event!</span></strong></p>\n\n<p>&nbsp\;</p>\n
LOCATION:Hyatt Place Columbia Harbison 1130 Kinley Rd. Irmo\, SC 29063
UID:e.1333.2483
SEQUENCE:3
DTSTAMP:20260425T003704Z
URL:https://business.greaterirmochamber.com/events/details/hyatt-place-columbia-harbison-presents-the-6th-annual-haunted-hotel-2483
END:VEVENT

END:VCALENDAR
