BEGIN:VCALENDAR
VERSION:2.0
PRODID:-//ChamberMaster//Event Calendar 2.0//EN
METHOD:PUBLISH
X-PUBLISHED-TTL:P3D
REFRESH-INTERVAL:P3D
CALSCALE:GREGORIAN
BEGIN:VEVENT
DTSTART;VALUE=DATE:20171109
DTEND;VALUE=DATE:20171112
TRANSP:TRANSPARENT
X-MICROSOFT-CDO-ALLDAYEVENT:TRUE
SUMMARY:I Am Psyched! National Tour Exhibit
DESCRIPTION:Midlands Technical College has the privilege of being the only two-year college in the country that is hosting the American Psychological Association's I Am Psyched! National Tour exhibit\, developed in cooperation with the Smithsonian. This interactive exhibit offers the opportunity to explore and experience psychology\, and learn about the incredible contributions of women of color to psychology.
X-ALT-DESC;FMTTYPE=text/html:Midlands Technical College has the privilege of being the only two-year college in the country that is hosting the American Psychological Association&#39\;s I Am Psyched! National Tour exhibit\, developed in cooperation with the Smithsonian. This interactive exhibit offers the opportunity to explore and experience psychology\, and learn about the incredible contributions of women of color to psychology.
LOCATION:Harbison Theatre at Midlands Technical College
UID:e.1333.2928
SEQUENCE:3
DTSTAMP:20260424T065135Z
URL:https://business.greaterirmochamber.com/events/details/i-am-psyched-national-tour-exhibit-2928
END:VEVENT

END:VCALENDAR
