BEGIN:VCALENDAR
VERSION:2.0
PRODID:-//ChamberMaster//Event Calendar 2.0//EN
METHOD:PUBLISH
X-PUBLISHED-TTL:P3D
REFRESH-INTERVAL:P3D
CALSCALE:GREGORIAN
BEGIN:VEVENT
DTSTART:20170616T153000Z
DTEND:20170616T163000Z
X-MICROSOFT-CDO-ALLDAYEVENT:FALSE
SUMMARY:iConstruct Ribbon Cutting
DESCRIPTION:Join us to welcome iConstruct to our Chamber!!!\n\nLight Lunch will be provided!
X-ALT-DESC;FMTTYPE=text/html:Join us to welcome iConstruct to our Chamber!!!<br />\nLight Lunch will be provided!
LOCATION:130 Centrum Drive\, Suite 2B Irmo\, SC 29063
UID:e.1333.2561
SEQUENCE:3
DTSTAMP:20260424T124713Z
URL:https://business.greaterirmochamber.com/events/details/iconstruct-ribbon-cutting-2561
END:VEVENT

END:VCALENDAR
