BEGIN:VCALENDAR
VERSION:2.0
PRODID:-//ChamberMaster//Event Calendar 2.0//EN
METHOD:PUBLISH
X-PUBLISHED-TTL:P3D
REFRESH-INTERVAL:P3D
CALSCALE:GREGORIAN
BEGIN:VEVENT
DTSTART:20170304T003000Z
DTEND:20170304T030000Z
X-MICROSOFT-CDO-ALLDAYEVENT:FALSE
SUMMARY:International Cat Video Festival
DESCRIPTION:Yes\, you can haz more cheezburger! This sleeper hit from our second season? returns\, re-loaded? with the antics of your favorite four-legged internet superstars.? Join Grumpy\, Henri\,? Lil' Bub\, and their litter of friends for more of your favorite short-form feline film masterpieces\, surrounded by folks who love these kitties just as much as you do!
X-ALT-DESC;FMTTYPE=text/html:Yes\, you can haz more cheezburger! This sleeper hit from our second season? returns\, re-loaded? with the antics of your favorite four-legged internet superstars.? Join Grumpy\, Henri\,? Lil' Bub\, and their litter of friends for more of your favorite short-form feline film masterpieces\, surrounded by folks who love these kitties just as much as you do! \n
LOCATION:Harbison Theatre at Midlands Technical College 7300 College Street Irmo\, SC 29063 803-407-5011
UID:e.1333.2455
SEQUENCE:3
DTSTAMP:20260424T171823Z
URL:https://business.greaterirmochamber.com/events/details/international-cat-video-festival-03-03-2017-2455
END:VEVENT

END:VCALENDAR
