BEGIN:VCALENDAR
VERSION:2.0
PRODID:-//ChamberMaster//Event Calendar 2.0//EN
METHOD:PUBLISH
X-PUBLISHED-TTL:P3D
REFRESH-INTERVAL:P3D
CALSCALE:GREGORIAN
BEGIN:VEVENT
DTSTART:20171118T003000Z
DTEND:20171118T033000Z
X-MICROSOFT-CDO-ALLDAYEVENT:FALSE
SUMMARY:Irma Thomas\, The Blind Boys of Alabama & The Preservation Hall Legacy Quintet
DESCRIPTION:The torchbearers of Louisiana jazz\; the five-part gospel harmonizers who underscored the civil rights movement\; and the GRAMMY-winning "Soul Queen of New Orleans" join voices to create an unforgettable experience for music lovers. Don't miss this magical combination of musical masters and American treasures.
X-ALT-DESC;FMTTYPE=text/html:The torchbearers of Louisiana jazz\; the five-part gospel harmonizers who underscored the civil rights movement\; and the GRAMMY-winning &quot\;Soul Queen of New Orleans&quot\; join voices to create an unforgettable experience for music lovers. Don&rsquo\;t miss this magical combination of musical masters and American treasures.
LOCATION:Harbison Theatre at Midlands Technical College - 7300 College Street\, Irmo\, SC 29063
UID:e.1333.2783
SEQUENCE:3
DTSTAMP:20260424T053246Z
URL:https://business.greaterirmochamber.com/events/details/irma-thomas-the-blind-boys-of-alabama-the-preservation-hall-legacy-quintet-2783
END:VEVENT

END:VCALENDAR
