BEGIN:VCALENDAR
VERSION:2.0
PRODID:-//ChamberMaster//Event Calendar 2.0//EN
METHOD:PUBLISH
X-PUBLISHED-TTL:P3D
REFRESH-INTERVAL:P3D
CALSCALE:GREGORIAN
BEGIN:VEVENT
DTSTART:20171019T210000Z
DTEND:20171019T230000Z
X-MICROSOFT-CDO-ALLDAYEVENT:FALSE
SUMMARY:Irmo Chamber Rocks: A Paint Event
DESCRIPTION:If you have ever seen the painted rocks people hide along the walking trails in Irmo\, Chapin or Lexington\, you know how fun and inspiring it is to find one of those little treasures!  Come to the Irmo Chamber and enjoy a happy hour filled with food\, drink and lots of rocks to paint!  We'll hide these rocks in the local parks and spread some happiness around Irmo!
X-ALT-DESC;FMTTYPE=text/html:If you have ever seen the painted rocks people hide along the walking trails in Irmo\, Chapin or Lexington\, you know how fun and inspiring it is to find one of those little treasures! &nbsp\;Come to the Irmo&nbsp\;Chamber and enjoy a happy hour filled with food\, drink and lots of rocks to paint! &nbsp\;We&#39\;ll hide these rocks in the local parks and spread some happiness around Irmo!
LOCATION:Greater Irmo Chamber 1235 Columbia Avenue Irmo\, SC 29063
UID:e.1333.2910
SEQUENCE:3
DTSTAMP:20260424T064949Z
URL:https://business.greaterirmochamber.com/events/details/irmo-chamber-rocks-a-paint-event-2910
END:VEVENT

END:VCALENDAR
