BEGIN:VCALENDAR
VERSION:2.0
PRODID:-//ChamberMaster//Event Calendar 2.0//EN
METHOD:PUBLISH
X-PUBLISHED-TTL:P3D
REFRESH-INTERVAL:P3D
CALSCALE:GREGORIAN
BEGIN:VEVENT
DTSTART:20170404T210000Z
DTEND:20170404T230000Z
X-MICROSOFT-CDO-ALLDAYEVENT:FALSE
SUMMARY:Irmo Chamber Spring Social
DESCRIPTION:Networking\, fellowship and beautiful spring weather.  Come join us on the back patio at the Chamber. We'll have hamburgers\, hotdogs and beverages to enjoy!\n\n\n\nSpecial thanks to The Horne Davis Group at Morgan Stanley for sponsoring this event
X-ALT-DESC;FMTTYPE=text/html:Networking\, fellowship and beautiful spring weather. &nbsp\;Come join us on the back patio at the Chamber. We&#39\;ll have hamburgers\, hotdogs and beverages to enjoy!<br />\n<br />\nSpecial thanks to The Horne Davis Group at Morgan Stanley for sponsoring this event
LOCATION:Greater Irmo Chamber building 1235 Columbia Ave. Irmo\, SC 29063
UID:e.1333.2525
SEQUENCE:3
DTSTAMP:20260424T155048Z
URL:https://business.greaterirmochamber.com/events/details/irmo-chamber-spring-social-2525
END:VEVENT

END:VCALENDAR
