BEGIN:VCALENDAR
VERSION:2.0
PRODID:-//ChamberMaster//Event Calendar 2.0//EN
METHOD:PUBLISH
X-PUBLISHED-TTL:P3D
REFRESH-INTERVAL:P3D
CALSCALE:GREGORIAN
BEGIN:VEVENT
DTSTART:20170928T113000Z
DTEND:20170928T130000Z
X-MICROSOFT-CDO-ALLDAYEVENT:FALSE
SUMMARY:Irmo Community Prayer Breakfast 2017
DESCRIPTION:12th Annual Irmo Community Prayer Breakfast\n\nBreakfast sponsored by: Chick-fil-A Ballentine\n\nSpeaker:  Dr. Wendall Estep\n\nRSVP: desireewatson@me.com
X-ALT-DESC;FMTTYPE=text/html:12th Annual Irmo Community Prayer Breakfast<br />\nBreakfast sponsored by: Chick-fil-A Ballentine<br />\nSpeaker: &nbsp\;Dr. Wendall Estep<br />\nRSVP: desireewatson@me.com
LOCATION:River Springs Church 1007 West Shady Grove Road Irmo\, SC 29063
UID:e.1333.2900
SEQUENCE:3
DTSTAMP:20260424T082011Z
URL:https://business.greaterirmochamber.com/events/details/irmo-community-prayer-breakfast-2017-2900
END:VEVENT

END:VCALENDAR
