BEGIN:VCALENDAR
VERSION:2.0
PRODID:-//ChamberMaster//Event Calendar 2.0//EN
METHOD:PUBLISH
X-PUBLISHED-TTL:P3D
REFRESH-INTERVAL:P3D
CALSCALE:GREGORIAN
BEGIN:VEVENT
DTSTART:20160922T113000Z
DTEND:20160922T130000Z
X-MICROSOFT-CDO-ALLDAYEVENT:FALSE
SUMMARY:Irmo Community Prayer Breakfast
DESCRIPTION:Join Rep. Huggins and Rep. Ballentine for the 11th Annual Irmo Community Prayer Breakfast.\n\nKeynote Speaker:  Marcus Lattimore\n\nBreakfast by Chick-fil-A\, Ballentine
X-ALT-DESC;FMTTYPE=text/html:Join Rep. Huggins and Rep. Ballentine for the 11th&nbsp\;Annual Irmo Community Prayer Breakfast.<br />\nKeynote Speaker: &nbsp\;Marcus Lattimore<br />\nBreakfast by Chick-fil-A\, Ballentine
LOCATION:Union United Methodist Church 7582 Woodrow Street Irmo\, SC
UID:e.1333.2468
SEQUENCE:3
DTSTAMP:20260425T020231Z
URL:https://business.greaterirmochamber.com/events/details/irmo-community-prayer-breakfast-2468
END:VEVENT

END:VCALENDAR
