BEGIN:VCALENDAR
VERSION:2.0
PRODID:-//ChamberMaster//Event Calendar 2.0//EN
METHOD:PUBLISH
X-PUBLISHED-TTL:P3D
REFRESH-INTERVAL:P3D
CALSCALE:GREGORIAN
BEGIN:VEVENT
DTSTART:20200822T233000Z
DTEND:20200823T030000Z
X-MICROSOFT-CDO-ALLDAYEVENT:FALSE
SUMMARY:Irmo Drive-In Movie Night
DESCRIPTION:The Irmo Drive-In Movie Night will return to the Anchor Lanes parking lot (1057 Lake Murray Blvd.\, Irmo) on Saturday\, August 22\, 2020.  The featured film will be Alita: Battle Angel.  Gates open at 7:30PM and the movie will begin at 9:00PM.  Parking spaces are limited.\n\n\n\nAdmission is $10 PER CAR and tickets must be purchased in advance.  No drive-ups permitted as we are trying to limit contact with cash and credit cards.  Masks are required within the Town of Irmo limits and we request that you stay in your vehicles with your families while you enjoy the film.  Food vendors will be on site for snack purchases.\n\n\n\nA big thank you to the Irmo Business Community for presenting this event!
X-ALT-DESC;FMTTYPE=text/html:<span style="font-family:verdana\;"><span style="font-size:18px\;">The <strong>Irmo Drive-In Movie Night</strong> will return to the Anchor Lanes parking lot (1057 Lake Murray Blvd.\, Irmo) on <strong>Saturday\, August 22\, 2020</strong>. &nbsp\;The featured film will be <u><em><strong><span style="font-size:20px\;">Alita: Battle Angel</span></strong></em></u>. &nbsp\;Gates open at <strong>7:30PM </strong>and the movie will begin at <strong>9:00PM</strong>. &nbsp\;Parking spaces are limited.<br />\n<br />\nAdmission is <strong>$10 PER CAR</strong> and <u>tickets must be purchased in advance</u>. &nbsp\;No drive-ups permitted as we are trying to limit contact with cash and credit cards. &nbsp\;<strong>Masks</strong> are <strong>required</strong> within the <strong>Town of Irmo</strong> limits and we request that you stay in your vehicles with your families while you enjoy the film. &nbsp\;Food vendors will be on site for snack purchases.<br />\n<br />\nA big thank you to the Irmo Business Community for presenting this event!</span></span>
LOCATION:Anchor Lanes Parking Lot 1057 Lake Murray Blvd. Irmo\, SC 29063
UID:e.1333.3951
SEQUENCE:3
DTSTAMP:20260422T012055Z
URL:https://business.greaterirmochamber.com/events/details/irmo-drive-in-movie-night-3951
END:VEVENT

END:VCALENDAR
