BEGIN:VCALENDAR
VERSION:2.0
PRODID:-//ChamberMaster//Event Calendar 2.0//EN
METHOD:PUBLISH
X-PUBLISHED-TTL:P3D
REFRESH-INTERVAL:P3D
CALSCALE:GREGORIAN
BEGIN:VEVENT
DTSTART:20180915T220000Z
DTEND:20180916T010000Z
X-MICROSOFT-CDO-ALLDAYEVENT:FALSE
SUMMARY:Irmo High School Hall of Fame Dinner
DESCRIPTION:Irmo High Hall of Fame Dinner sponsored by the IHS Education Foundation. The 2018 inductees are Capt. Dan McCollum '92\, Dr. Terry Dozier (faculty)\, Stewart Mungo '70\, Dr. Caroline Potter '95\, Tammy Marie Blacklocke-Maier '88\, Teresa Wilson '92.\n\nDinner by Fusco's Market
X-ALT-DESC;FMTTYPE=text/html:Irmo High Hall of Fame Dinner sponsored by the IHS Education Foundation. The 2018 inductees are Capt. Dan McCollum &#39\;92\, Dr. Terry Dozier (faculty)\, Stewart Mungo &#39\;70\, Dr. Caroline Potter &#39\;95\, Tammy Marie Blacklocke-Maier &#39\;88\, Teresa Wilson &#39\;92.<br />\nDinner by Fusco&#39\;s Market<br />\n&nbsp\;
LOCATION:Irmo High School 6671 St. Andrews Road Columbia\, SC 29212
UID:e.1333.3262
SEQUENCE:3
DTSTAMP:20260423T132844Z
URL:https://business.greaterirmochamber.com/events/details/irmo-high-school-hall-of-fame-dinner-3262
END:VEVENT

END:VCALENDAR
